BEGIN:VCALENDAR
VERSION:2.0
PRODID:-//http://bomi40.eu///NONSGML kigkonsult.se iCalcreator 2.10.15//
METHOD:PUBLISH
BEGIN:VEVENT
UID:20260419T203615CEST-7435RIi1V1@http://bomi40.eu/
DTSTAMP:20260419T183615Z
DESCRIPTION:Am Campus Fallenbrunnen tut sich was!&nbsp\;Kooperationen zwisc
 hen Wissenschaft und Wirtschaft sind klare Win-Win-Situationen\, die spürb
 are ökonomische Effekte für beide Seiten - und für die Region - bringen kö
 nnen. Das IWT lädt ein\, Einblick in die Campusaktivitäten im Bereich Tech
 nologietransfer zu nehmen. Dabei können Sie spannende Einblicke in aktuell
 e Projekte\, Bauvorhaben und Initiativen\, die das Zusammenspiel von Wisse
 nschaft und Wirtschaft noch produktiver gestalten sollen\, erhalten.&nbsp\
 ;\nWeitere Informationen zum Programm erhalten Sie&nbsp\;hier.\nOrganisati
 on und Anmeldung:\nDie Veranstaltung wird organisiert vom IWT | Institut f
 ür Weiterbildung\, Wissens- und Technologietransfer im Rahmen der Initiati
 ve #bodenseeinnovativ | #bi. Die Teilnahme ist kostenlos jedoch auf 75 Tei
 lnehmer begrenzt.Bitte senden Sie daher&nbsp\;bis spätestens 07. Mai 2017&
 nbsp\;eine E-Mail mit folgenden Angaben an Frau Antonia Herwegh herwegh@iw
 t-wirtschaft-und-technik.de:\n\nName\, Vorname\nFirma\nPostanschrift\nMail
 adresse\nTelefonnummer\nPosition\n\nDas IWT\nDas IWT ist das Institut für 
 Weiterbildung\, Wissens- und Technologietransfer\, Partner der DHBW Ravens
 burg\, mit Sitz am Campus Fallenbrunnen in Friedrichshafen. Es ergänzt die
  wissenschaftlichen Aktivitäten der Hochschule in den Bereichen Weiterbild
 ung und Wissenstransfer\, Kooperative Forschung (frei & vorwettbewerblich)
 \, Technologietransfer (Vermittlung von Know-How zwischen Forschung und Wi
 rtschaft) und Vermittlung von Testinfrastruktur der DHBW. Weitere Informat
 ionen zum IWT finden Sie hier.&nbsp\; http://bomi40.eu/de/service-kompeten
 z/veranstaltungen/ort/event/104-schaufenster-fallenbrunnen-technologietran
 sfer-heute-und-morgen
DTSTART:20170515T133000Z
DTEND:20170515T150000Z
LOCATION:DHBW Ravensburg Campus Friedrichshafen\, Raum 222 (Fallenbrunnen 2
 \, 88045 Friedrichshafen\, Deutschland)
SUMMARY:Schaufenster Fallenbrunnen - Technologietransfer heute und morgen 
URL:http://bomi40.eu/de/service-kompetenz/veranstaltungen/ort/event/104-sch
 aufenster-fallenbrunnen-technologietransfer-heute-und-morgen
END:VEVENT
END:VCALENDAR
