BEGIN:VCALENDAR
VERSION:2.0
PRODID:-//http://bomi40.eu///NONSGML kigkonsult.se iCalcreator 2.10.15//
METHOD:PUBLISH
BEGIN:VEVENT
UID:20260419T204735CEST-9615ImOSn1@http://bomi40.eu/
DTSTAMP:20260419T184735Z
DESCRIPTION:Nutzen maximieren - Risiken beherrschen. 'Collaborative Robotin
 g' & 'Cyber Security'\nAuch dieses Jahr wird das IBH-Lab KMUdigital wieder
  bei dem Ostschweizer Technologie Symposium vertreten sein.\nWeitere Infor
 mationen zu der Veranstaltung und Anmeldung finden Sie hier. http://bomi40
 .eu/de/service-kompetenz/veranstaltungen/ort/event/1121-ostschweizer-techn
 ologie-symposium
DTSTART;VALUE=DATE:20180824
LOCATION:Olma Halle 2.1 St.Gallen (Splügenstrasse 12\, 9008 St. Gallen\, Sc
 hweiz)
SUMMARY:Ostschweizer Technologie Symposium
URL:http://bomi40.eu/de/service-kompetenz/veranstaltungen/ort/event/1121-os
 tschweizer-technologie-symposium
END:VEVENT
END:VCALENDAR
