BEGIN:VCALENDAR
VERSION:2.0
PRODID:-//http://bomi40.eu///NONSGML kigkonsult.se iCalcreator 2.10.15//
METHOD:PUBLISH
BEGIN:VEVENT
UID:20260419T195146CEST-5864kwMVkk@http://bomi40.eu/
DTSTAMP:20260419T175146Z
DESCRIPTION:Existenzgründung im Nebenerwerb\nNeben der hauptberuflichen Sel
 bstständigkeit bietet eine Existenzgründung im Nebenerwerb die Chance\, di
 e Selbstständigkeit zu testen. Parallel zum festen Anstellungsverhältnis i
 st es für viele Existenzgründer/-innen attraktiv\, dem eigenen Unternehmen
  zunächst in Form eines Nebenjobs nachzugehen. Dabei sind flexible Arbeits
 einteilung und eigenverantwortliches Arbeiten nur zwei der Gründe für eine
  Selbstständigkeit im Nebenerwerb. Die Selbstständigkeit im Nebenerwerb so
 llte jedoch gut durchdacht und geplant sein. Viele Fragen und neue Aufgabe
 n aus der unternehmerischen Selbstständigkeit\, die rechtlichen Rahmenbedi
 ngungen sowie das Risiko\, den Zeitaufwand zu unterschätzen\, erschweren d
 en Start.\nDie Wirtschaftsförderung Bodenseekreis bietet zusammen mit der 
 IHK Bodensee-Oberschwaben und der Kreishandwerkschaft Bodenseekreis mit de
 r Veranstaltung „Existenzgründung im Nebenerwerb“ eine Starthilfe für den 
 Weg in die Nebenerwerbsselbstständigkeit. Angesprochen werden sowohl persö
 nliche\, steuerliche als auch finanzielle Aspekte für eine erfolgreiche Ne
 benerwerbsgründung.\nVeranstaltungspartner: Wirtschaftsförderung Bodenseek
 reis\, IHK Bodensee-Oberschwaben\, Kreishandwerkerschaft Bodenseekreis\n\n
 &nbsp\;Weitere Informationen zu der Veranstaltung sowie Anmeldung finden S
 ie hier.\nDie Teilnahme ist kostenlos. http://bomi40.eu/de/service-kompete
 nz/veranstaltungen/ort/event/1131-informationsveranstaltung-existenzgruend
 ung-im-nebenerwerb
DTSTART:20180516T130000Z
DTEND:20180516T163000Z
LOCATION:Kreishandwerkerschaft Bodenseekreis (Lindauer Str. 11\, 88046 Frie
 drichshafen\, Deutschland)
SUMMARY:Informationsveranstaltung: Existenzgründung im Nebenerwerb
URL:http://bomi40.eu/de/service-kompetenz/veranstaltungen/ort/event/1131-in
 formationsveranstaltung-existenzgruendung-im-nebenerwerb
END:VEVENT
END:VCALENDAR
