BEGIN:VCALENDAR
VERSION:2.0
PRODID:-//http://bomi40.eu///NONSGML kigkonsult.se iCalcreator 2.10.15//
METHOD:PUBLISH
BEGIN:VEVENT
UID:20260419T205044CEST-78594Jah4P@http://bomi40.eu/
DTSTAMP:20260419T185044Z
DESCRIPTION:Auch in diesem Jahr findet an der HSR die Konferenz zur Digital
 isierung in der Industrie statt.\nZiele und Inhalt der Konferenz:\n\nDigit
 ale Ökosysteme kennenlernen\n\n\nVon umgesetzten Digitalisierungsprojekten
  lernen\n\n\nTechnologische Zusammenhänge verstehen\n\nAm 4. September 201
 8 kommen namhafte Unternehmen\, regionale Vorreiter und anerkannte Technol
 ogieexperten\, um von Ihren Erkenntnissen\, Erfahrungen und Erfolgen zu be
 richten.\n\n&nbsp\;Weitere Informationen finden Sie hier im Informations-F
 lyer. http://bomi40.eu/de/service-kompetenz/veranstaltungen/ort/event/1137
 -3-hsr-konferenz-digitalisierung-in-der-industrie
DTSTART:20180904T070000Z
DTEND:20180904T160000Z
LOCATION:HSR Hochschule für Technik Rapperswil (Oberseestrasse 10\, 8640 Ra
 pperswil-Jona\, Schweiz)
SUMMARY:3. HSR Konferenz: Digitalisierung in der Industrie
URL:http://bomi40.eu/de/service-kompetenz/veranstaltungen/ort/event/1137-3-
 hsr-konferenz-digitalisierung-in-der-industrie
END:VEVENT
END:VCALENDAR
