BEGIN:VCALENDAR
VERSION:2.0
PRODID:-//http://bomi40.eu///NONSGML kigkonsult.se iCalcreator 2.10.15//
METHOD:PUBLISH
BEGIN:VEVENT
UID:20260419T192947CEST-9294zobdPR@http://bomi40.eu/
DTSTAMP:20260419T172947Z
DESCRIPTION:Der Cluster Swiss Mechatronics lädt ein zum\nSwiss Mechatronics
  Day \nAm Donnerstag\, 29. Juni 2017 9:00 Uhr bis 16:30 Uhr im Technopark 
 Zürich \nBereits zum 4. Mal bietet Ihnen die eintägige Konferenz eine herv
 orragende Gelegenheit Innovationen der Mechatronik hautnah zu erleben.\nMi
 t Keynotes und Live-Demonstrationen von:\n\nSCEWO\nMicrosoft Schweiz\nNSID
 E ATTACK LOGIC GmbH\n\nSowie Präsentationen von unseren Mitgliedern:\n\nHS
 R Hochschule für Technik Rapperswil\nGotthard 3 Mechatronic Solutions AG\n
 CSMA SA\nLeanBI AG\n\nBegleitet wird die Veranstaltung durch eine Fachauss
 tellung mit weiteren Attraktionen in der Pause:\n\nCafeteria i4.0\nCybathl
 on Team HSR\n\n&nbsp\;Weitere Informationen und Anmeldung:\nWeitere Inform
 ationen zum Programm und den Teilnahmegebühren finden Sie&nbsp\;hier.\nEs 
 wird um eine verbindliche Anmeldung bis zum 22. Juni 2017&nbsp\;gebeten\, 
 per Mail an Kathrin Hopkins&nbsp\;Kathrin.hopkins@swiss-mechatronics.ch&nb
 sp\;oder mit Hilfe des Anmeldeformulars. http://bomi40.eu/de/service-kompe
 tenz/veranstaltungen/ort/event/115-swiss-mechatronics-day
DTSTART:20170629T070000Z
DTEND:20170629T143000Z
LOCATION:Technopark Zürich (Technopark\, Technoparkstrasse 1\, 8005 Zürich\
 , Schweiz)
SUMMARY:Swiss Mechatronics Day
URL:http://bomi40.eu/de/service-kompetenz/veranstaltungen/ort/event/115-swi
 ss-mechatronics-day
END:VEVENT
END:VCALENDAR
