BEGIN:VCALENDAR
VERSION:2.0
PRODID:-//http://bomi40.eu///NONSGML kigkonsult.se iCalcreator 2.10.15//
METHOD:PUBLISH
BEGIN:VEVENT
UID:20260419T204518CEST-0934gR2hiW@http://bomi40.eu/
DTSTAMP:20260419T184518Z
DESCRIPTION:Fit für EU-Anträge zu Forschung und Innovation\nIn Kooperation 
 mit der Steinbeis 2i GmbH\, Tochter des Steinbeis-Europa-Zentrums\, lädt d
 ie Wirtschaftsförderung des Landkreises Konstanz kleine und mittlere Unter
 nehmen (KMU) am Dienstag\, 26. Juni 2018 zu einer Informationsveranstaltun
 g über das europäische Förderprogramm „KMU-Instrument“ ein.\nOft ist es ei
 n weiter Weg von einer innovativen Idee zu einem marktreifen Produkt. Das 
 „KMU-Instrument“ unterstützt Unternehmen\, indem es Fördermittel und Exper
 tise bereitstellt. Die Veranstaltungsteilnehmerinnen und -teilnehmer erhal
 ten grundlegende Informationen über das KMU-Instrument und die Voraussetzu
 ngen der Antragstellung. Anschließend besteht die Möglichkeit\, die eigene
  Projektidee dem Plenum kurz vorzustellen und ein direktes\, offenes Feedb
 ack von den anderen Teilnehmenden und den Steinbeis-Beratern zu erhalten. 
 Darüber hinaus bieten die Veranstalter ein persönliches Beratungsgespräch 
 mit einem Fördermittel-Experten an.\n\nWeitere Informationen zu der Verans
 taltung sowie die Möglichkeit der Anmeldung finden Sie hier. http://bomi40
 .eu/de/service-kompetenz/veranstaltungen/ort/event/1150-kmu-beratungstage-
 fuer-europaeische-foerdermittel
DTSTART:20180621T115500Z
DTEND:20180621T135500Z
LOCATION:Ibis-Hotel (Benediktinerpl. 9\, 78467 Konstanz\, Deutschland)
SUMMARY:KMU-Beratungstage für europäische Fördermittel
URL:http://bomi40.eu/de/service-kompetenz/veranstaltungen/ort/event/1150-km
 u-beratungstage-fuer-europaeische-foerdermittel
END:VEVENT
END:VCALENDAR
