BEGIN:VCALENDAR
VERSION:2.0
PRODID:-//http://bomi40.eu///NONSGML kigkonsult.se iCalcreator 2.10.15//
METHOD:PUBLISH
BEGIN:VEVENT
UID:20260419T192824CEST-9347EJXhgL@http://bomi40.eu/
DTSTAMP:20260419T172824Z
DESCRIPTION:Regionale Konferenz für Technologie\, Entertainment und Design 
 – So vielfältig wie die Regionen um den Bodensee sind die Menschen\, ihre 
 Ideen und Projekte\, die am See ihre Heimat haben. TEDxBodensee zeigt dies
 e regionalen Ideen\, nach dem TED Motto: „ideas worth spreading“.\nTEDxBod
 ensee – beyond borders – widmet sich dem neuen Ort hinter unseren Begrenzu
 ngen. Mit unserem Event in 2018 wollen wir Fragen Raum geben\, die uns hel
 fen\, Grenzen zu überwinden und den nächsten Ziel-Ort dahinter zu beschrei
 ben.\nDie Wahrnehmung sowohl der „Grenzenlosigkeit“ als auch von Begrenzun
 gen bestimmt zunehmend unser Leben und Handeln. Globalisierung\, einfache 
 Transport- und Reisemöglichkeiten für viele\, aber vor allem neue digitale
  Möglichkeiten\, verbinden uns weit über Landesgrenzen hinweg und stellen 
 uns auch vor disruptive Herausforderungen. Wir werden\, als Gesellschaft u
 nd als Mensch\, ständig mit Neuem konfrontiert und müssen uns zunehmend ze
 ntrale Fragen neu stellen\, sowie feste und liebgewonnene Ansichten auf de
 n Prüfstand stellen. Häufig müssen wir diese stark revidieren oder komplet
 t erneuern. Im Beruf\, als Entrepreneur\, als Bürger\, persönlich.\nDieses
  Verändern von Grenzen birgt auch Chancen und Möglichkeiten\, gerade dann\
 , wenn wir selbst unsere persönlichen Grenzen verschieben. Und es stellt s
 ich die Frage\, welcher nächste Ort hinter der Grenze erreicht wird oder a
 ngestrebt wird. Dieser Ort wird bestimmt durch Wünsche\, Visionen\, aber a
 uch durch das Treffen auf harte Realitäten. Nicht immer läuft es wie gewün
 scht\, harte Abstürze stehen neben unerwarteten Erfolgen.\n\nWeitere Infor
 mationen zu der Veranstaltung finden Sie hier. http://bomi40.eu/de/service
 -kompetenz/veranstaltungen/ort/event/1154-6-tedxbodensee
DTSTART;VALUE=DATE:20181013
LOCATION:Fähre zwischen Friedrichshafen und Romanshorn (Friedrichshafen\, D
 eutschland)
SUMMARY:6. TEDxBodensee
URL:http://bomi40.eu/de/service-kompetenz/veranstaltungen/ort/event/1154-6-
 tedxbodensee
END:VEVENT
END:VCALENDAR
