BEGIN:VCALENDAR
VERSION:2.0
PRODID:-//http://bomi40.eu///NONSGML kigkonsult.se iCalcreator 2.10.15//
METHOD:PUBLISH
BEGIN:VEVENT
UID:20260419T205240CEST-4032ZB8UNO@http://bomi40.eu/
DTSTAMP:20260419T185240Z
DESCRIPTION:Geschichten vom Scheitern gibt es zur Genüge\, deshalb veransta
 ltet cyberLAGO\, das digitale Kompetenznetzwerk am Bodensee in Kooperation
  mit dem PioneerPort\, dem Gründerzentrum der Zeppelin Universität\, und S
 chwäbisch Media\, am 12. September&nbsp\;die erste Fuckup Night in Friedri
 chshafen. Dann hat das Publikum wieder die Möglichkeit\, den humorvollen u
 nd zugleich todernsten Erzählungen&nbsp\;von drei Gründern und Unternehmer
 n zu lauschen\, wenn sie davon berichten\, wie und woran sie gescheitert s
 ind. Eins ist sicher: jede Geschichte trägt eine persönliche Note und ist 
 individuell. Das Thema Scheitern wird bei der Fuckup Night aus der Tabuzon
 e geholt. Denn gerade diese Nicht-Bilderbuchgeschichten sind es wert\, geh
 ört und verbreitet zu werden – damit auch andere davon lernen und nicht di
 e gleichen Fehler begehen.\nFuckup Night … what the fuck? Was im Jahr 2012
  mit einem Treffen von fünf Freunden in Mexiko angefangen hat\, hat sich m
 ittlerweile zu einer weltweiten Fuckup-Bewegung und Veranstaltungsreihe zu
 m Austausch von Geschichten übers Scheitern entwickelt. Ein Format\, das S
 inn macht\, denn die wenigen Erfolgsstories von jungen Unternehmern und in
 novativen Start-ups überdecken in der öffentlichen Wahrnehmung die hohe An
 zahl derer\, die mit ihren Ideen Schiffbruch erleiden. Letztere stehen bei
  der Fuckup Nights im Rampenlicht. Gemäß dem Motto „Die besten Geschichten
  beginnen mit einer falschen Entscheidung“\, haben sie einiges an Weisheit
 en\, Erfahrungen und Ratschlägen zu teilen – und dabei jede Menge Spaß.\nW
 eitere Informationen zur Veranstaltung und Anmeldung finden Sie hier.\n&nb
 sp\; http://bomi40.eu/de/service-kompetenz/veranstaltungen/ort/event/1174-
 f-ckup-nights-friedrichshafen-vol-i
DTSTART:20180912T160000Z
DTEND:20180912T190000Z
LOCATION:ZF Campus der Zeppelin Universität Friedrichshafen (Fallenbrunnen 
 3\, 88045 Friedrichshafen\, Deutschland)
SUMMARY:F*ckup Nights Friedrichshafen // Vol. I
URL:http://bomi40.eu/de/service-kompetenz/veranstaltungen/ort/event/1174-f-
 ckup-nights-friedrichshafen-vol-i
END:VEVENT
END:VCALENDAR
