BEGIN:VCALENDAR
VERSION:2.0
PRODID:-//http://bomi40.eu///NONSGML kigkonsult.se iCalcreator 2.10.15//
METHOD:PUBLISH
BEGIN:VEVENT
UID:20260419T193246CEST-3861vnmks4@http://bomi40.eu/
DTSTAMP:20260419T173246Z
DESCRIPTION:Baden-Württemberg International organisiert gemeinsam mit der e
 -mobil BW GmbH und der Allianz 4.0 BW eine Wirtschaftsdelegationsreise für
  baden-württembergische Unternehmen\, Forschungseinrichtungen sowie Cluste
 r und Netzwerke unter Leitung von Frau Ministerin Dr. Nicole Hoffmeister-K
 raut nach Frankreich. &nbsp\;Die Reise bietet Ihnen die Möglichkeit\, in d
 en Branchen nachhaltige Mobilität und Industrie 4.0 die aktuelle Aufbruchs
 timmung in Frankreich zu erleben und vor Ort Geschäftsmöglichkeiten auszul
 oten.\nKooperations- und Geschäftsmöglichkeiten bieten sich insbesondere d
 a\, wo sich französische und deutsche Kompetenzen ergänzen:\nIm Bereich In
 dustrie 4.0 ist die deutsche Industrie z.B. für ihre Expertise in der Robo
 tik weltweit bekannt\, die französischen Unternehmen haben ihre Stärken da
 gegen in der Software.  Im Bereich Elektromobilität ist der französische M
 arkt nach Norwegen und vor Deutschland der größte europäische Markt für El
 ektrofahrzeuge. Viele Hersteller haben für 2018 die Einführung von Modelle
 n mit größerer Reichweite angekündigt und gleichzeitig wächst die Ladeinfr
 astruktur in Frankreich.\nIm Fokus der dreitägigen Reise stehen die Marktb
 eobachtung und der direkte Austausch mit französischen Unternehmen\, Forsc
 hungseinrichtungen und Netzwerken aus den Sektoren nachhaltige Mobilität u
 nd Industrie 4.0. An drei Tagen finden Unternehmensbesuche und Kontaktgesp
 räche in Paris\, in Lyon und auf der Messe BE 4.0 Industries du Futur in M
 ulhouse statt.\nEine Anmeldung ist bis zum 4. September 2018 möglich. Weit
 ere Informationen finden Sie hier. http://bomi40.eu/de/service-kompetenz/v
 eranstaltungen/ort/event/1176-wirtschaftsdelegationsreise-nach-frankreich
DTSTART:20181119T055000Z
DTEND:20181121T201000Z
LOCATION:Paris\, Lyon\, Mulhouse (Paris\, Frankreich)
SUMMARY:Wirtschaftsdelegationsreise nach Frankreich
URL:http://bomi40.eu/de/service-kompetenz/veranstaltungen/ort/event/1176-wi
 rtschaftsdelegationsreise-nach-frankreich
END:VEVENT
END:VCALENDAR
