BEGIN:VCALENDAR
VERSION:2.0
PRODID:-//http://bomi40.eu///NONSGML kigkonsult.se iCalcreator 2.10.15//
METHOD:PUBLISH
BEGIN:VEVENT
UID:20260419T192802CEST-6899R5Gh17@http://bomi40.eu/
DTSTAMP:20260419T172802Z
DESCRIPTION:Erfolgreiches Networking - Neue Kunden/Partner durch Netzwerken
  mit SystemTrainerin: Dr. Magda Bleckmann\nWollen Sie wissen\, wie Sie lan
 gweiligen Smalltalk vermeiden?&nbsp\; Fragen Sie sich manchmal\, ob Networ
 king Ihnen wirklich etwas bringt oder nur ihre Zeit verschwendet? Würden S
 ie gerne wissen wie man sich systematisch und bewusst ein großes Netzwerk 
 aufbaut? Dann sind Sie hier richtig. In diesem Seminar erfahren Sie kompri
 miert das Beste aus allen Seminaren von Dr. Magda Bleckmann. Sie profitier
 en von ihrem umfassenden Wissen und ihren Erfahrungen aus der Politik und 
 Wirtschaft.&nbsp\;&nbsp\;\nZiel\nZiel ist es die Teilnehmer zu befähigen l
 ocker und ungezwungen auf fremde Menschen zuzugehen. Durch einfache Plaude
 rei auf sich und Ihre Leistung neugierig zu machen und so z.B. mehr Neukun
 dentermine zu generieren. Sie erkennen\, dass Sie neue Kunden/Partner durc
 h Netzwerken mit System erhalten - dazu bekommen Sie eine bewährte Schritt
  für Schritt Anleitung.\nInhalte\nLernen Sie Werkzeuge kennen\n\nwie Sie i
 hre Hemmungen abbauen\nwie Sie sich überzeugend präsentieren\nwie Sie opti
 mal in Kontakt bleiben\nwie Sie beruflichen Smalltalk führen\nwie Sie Ihr 
 Netzwerk aufbauen und pflegen\nwie Sie Empfehlungen generieren\n\n&nbsp\;
 \nSie erhalten\n\nIhre persönliche Netzwerkstrategie\nEine Schritt für Sch
 ritt Anleitung\nChecklisten\nViele neue Kontakte\nMethodische Herangehensw
 eise\n\nDurch Impulsvorträge und Gruppenarbeiten oder Rollenspiele erarbei
 ten wir die Themen mit Beispielen aus Ihrer Praxis.\n&nbsp\;\nWeitere Info
 rmationen und Anmeldung\n&nbsp\;\nWeitere Informationen zu der Veranstaltu
 ng\, der Trainerin\, den Teilnahmekosten sowie das Anmeldeformular finden 
 Sie hier.&nbsp\;Anmeldefrist ist der 15. August 2017. http://bomi40.eu/de/
 service-kompetenz/veranstaltungen/ort/event/121-erfolgreiches-networking
DTSTART:20170926T070000Z
DTEND:20170927T143000Z
LOCATION:DHBW Ravensburg Campus Friedrichshafen (Fallenbrunnen 2\, 88045 Fr
 iedrichshafen\, Deutschland)
SUMMARY:Erfolgreiches Networking
URL:http://bomi40.eu/de/service-kompetenz/veranstaltungen/ort/event/121-erf
 olgreiches-networking
END:VEVENT
END:VCALENDAR
