BEGIN:VCALENDAR
VERSION:2.0
PRODID:-//http://bomi40.eu///NONSGML kigkonsult.se iCalcreator 2.10.15//
METHOD:PUBLISH
BEGIN:VEVENT
UID:20260419T192833CEST-22553r9VZv@http://bomi40.eu/
DTSTAMP:20260419T172833Z
DESCRIPTION:Digital Human Work − eine Utopie?\nEs geht bei dem Thema Digita
 lisierung nicht nur um die Möglichkeitsperspektive\, sondern insbesondere 
 auch um die Herausforderungen\, welche die Digitalisierung auf die Arbeits
 welt der Zukunft mit sich bringt. Im Zentrum steht die Frage\, ob eine dig
 itale und eine humane Arbeitswelt der Zukunft ein Widerspruch sind oder ob
  sie sich miteinander vereinbaren lassen.\nZiel des St.Galler New Work For
 ums ist\, dass die Teilnehmenden auf der Basis von wissenschaftlichen Erke
 nntnissen sowie auch evidenten und reflektierten Praxisbeiträgen und innov
 ativen Lösungsvorschlägen einen inspirierenden und erkenntnisreichen Disku
 rsbeitrag über die Herausforderungen der Digitalisierung erhalten. Dabei s
 ollen insbesondere folgende Ziele verfolgt werden:\n\nVerstehen möglicher 
 Herausforderungen der Digitalisierung auf Individuen\, Führung und Organis
 ationen.\nObjektivierung des Diskurses über Chancen und Risiken der Digita
 lisierung durch empirische Erhebungen.\nErkennen und reflektieren von inno
 vativen Lösungs- und Vorgehensvorschlägen sowie Modellen\, wie in den Bere
 ichen Organisation\, Führung\, Menschenbild/Identitäten auch mit den Risik
 en der Digitalisierung (u. a. Standardisierung\, Exklusion\, Entgrenzung\,
  Veränderung von Identitäten\, disruptiver Strukturwandel etc.) umgegangen
  werden kann.\nDialogisches Lernen von gegenseitigen Erfahrungen und Exper
 tise der Teilnehmenden\nInspiration für konkrete Ideen- und Lösungstransfe
 r in die Praxen der Teilnehmenden.\n\nAm St.Galler New Work Forum wird mit
  rund 250 Teilnehmenden gerechnet. Das Thema New Work bedarf in seiner Dis
 kussion Erkenntnisse aus unterschiedlichen Zielgruppen.\nWeiter Informatio
 nen zu der Veranstaltung finden Sie hier. http://bomi40.eu/de/service-komp
 etenz/veranstaltungen/ort/event/1211-2-st-galler-new-work-forum
DTSTART;VALUE=DATE:20190109
LOCATION:Olma Messen St. Gallen (Splügenstrasse 12\, 9008 St. Gallen\, Schw
 eiz)
SUMMARY:2. St.Galler New Work Forum
URL:http://bomi40.eu/de/service-kompetenz/veranstaltungen/ort/event/1211-2-
 st-galler-new-work-forum
END:VEVENT
END:VCALENDAR
