BEGIN:VCALENDAR
VERSION:2.0
PRODID:-//http://bomi40.eu///NONSGML kigkonsult.se iCalcreator 2.10.15//
METHOD:PUBLISH
BEGIN:VEVENT
UID:20260419T203336CEST-0024uR4KR0@http://bomi40.eu/
DTSTAMP:20260419T183336Z
DESCRIPTION:Das\, was verbindet\, ist das\, was zählt\nAls Beschäftigte im 
 öffentlichen Dienst können Sie dazu beitragen\, globale Ziele umzusetzen u
 nter anderem durch nachhaltige Beschaffung.\nDoch wie sehen diese globalen
  Ziele konkret aus? Wie kann nachhaltige Beschaffung gestaltet werden? Was
  können Sie tun\, um die nachhaltige Entwicklung unserer Region mitzugesta
 lten? Welche guten Beispiele aus der Region gibt es?\nAntworten auf diese 
 und viele weitere Fragen gibt die erste Bodenseetagung für die öffentliche
  Hand. Profitieren Sie von den Erfahrungen Ihrer Kollegen\, indem Sie sich
  austauschen und gegenseitig unterstützen. Integrieren Sie neue Ansätze\, 
 ohne auf Bewährtes zu verzichten. Das große Ziel ist die gegenwärtigen Bed
 ürfnisse zu erfüllen\, ohne die zukünftigen zu gefährden.\nAnmeldungsschlu
 ss ist der 31.10.2018.\nWeitere Informationen zur Veranstaltung und zur An
 meldung finden Sie hier. http://bomi40.eu/de/service-kompetenz/veranstaltu
 ngen/ort/event/1212-bodenseetagung-nachhaltig-beschaffen
DTSTART:20181006T073000Z
DTEND:20181106T153000Z
LOCATION:Inselhalle Lindau (Zwanzigerstraße 10\, 88131 Lindau (Bodensee)\, 
 Deutschland)
SUMMARY:Bodenseetagung 'Nachhaltig beschaffen'
URL:http://bomi40.eu/de/service-kompetenz/veranstaltungen/ort/event/1212-bo
 denseetagung-nachhaltig-beschaffen
END:VEVENT
END:VCALENDAR
