BEGIN:VCALENDAR
VERSION:2.0
PRODID:-//http://bomi40.eu///NONSGML kigkonsult.se iCalcreator 2.10.15//
METHOD:PUBLISH
BEGIN:VEVENT
UID:20260419T192831CEST-88665TxPxG@http://bomi40.eu/
DTSTAMP:20260419T172831Z
DESCRIPTION:Einführung&nbsp\;\nDie kundenorientierte Entwicklung von Produk
 ten und Dienstleistungen ist ein wichtiger Erfolgsfaktor von Unternehmen\,
  da Fehlentwicklungen und Flops vermieden werden können. Zudem ist es notw
 endig\, Kunden zu begeistern und diese mit passenden Produkten und Dienstl
 eistungen langfristig an das Unternehmen zu binden.&nbsp\;&nbsp\;\nDas Int
 ensiv-Seminar widmet sich der kundenorientierten Gestaltung von Produkten 
 und Dienstleistungen mittels Design Thinking. Hierbei werden die Bedürfnis
 se von Kunden aufgegriffen und mittels eines strukturierten Prozesses in F
 orm von Prototypen umgesetzt.&nbsp\;Design Thinking kann dabei sowohl im E
 ndkunden-\, als auch im Geschäftskundenbereich eingesetzt werden.&nbsp\;\n
 Inhalte&nbsp\;\nDas Seminar bietet Ihnen die Möglichkeit\, Design Thinking
  kennenzulernen und anzuwenden. Es enthält neben Grundlagen auch ein Vorge
 hensmodell mit geeigneten Instrumenten.Die Teilnehmer können kundenorienti
 erte Produkte und Dienstleistungen gestalten und diese in ein Geschäftsmod
 ell integrieren. Die Teilnehmer wenden die Inhalte in Teamarbeiten an.&nbs
 p\;&nbsp\;\nZiele\n\nSie lernen das Vorgehen für Design Thinking kennen.\n
 Sie lernen die Instrumente kennen\, um kundenorientierte Produkte und Dien
 stleistungen zu erstellen.\nSie lernen Möglichkeiten kennen\, um Nutzer un
 d Produkte zu visualisieren.\nSie wissen\, wie Ideen abgeleitet\, beschrie
 ben und weiterentwickelt werden.\nSie wissen\, wie Prototypen für Produkte
  und Dienstleistungen entwickelt werden.\n\nMethodische Herangehensweise&n
 bsp\;\n\nInteraktive Präsentation\nPrixisorteintierte Fallstudien\nGruppen
 arbeiten zur analyse eigener und fremder Geschäftsmodelle\nDiskussion erzi
 elter Ergebnisse\nEinsatz von Kreativitätstechniken\n\nWeitere Information
 en und Anmeldung:\nWeitere Informationen zu der Veranstaltung\, dem Traine
 r\, den Teilnahmekosten sowie das Anmeldeformular finden Sie hier.\nAnmeld
 efrist ist der&nbsp\;02. November 2017. http://bomi40.eu/de/service-kompet
 enz/veranstaltungen/ort/event/122-intensivseminar-design-thinking
DTSTART:20171130T080000Z
DTEND:20171201T160000Z
LOCATION:DHBW Ravensburg Campus Friedrichshafen (Fallenbrunnen 2\, 88045 Fr
 iedrichshafen\, Deutschland)
SUMMARY:Intensivseminar: Design Thinking
URL:http://bomi40.eu/de/service-kompetenz/veranstaltungen/ort/event/122-int
 ensivseminar-design-thinking
END:VEVENT
END:VCALENDAR
