BEGIN:VCALENDAR
VERSION:2.0
PRODID:-//http://bomi40.eu///NONSGML kigkonsult.se iCalcreator 2.10.15//
METHOD:PUBLISH
BEGIN:VEVENT
UID:20260419T192803CEST-0835RPhesx@http://bomi40.eu/
DTSTAMP:20260419T172803Z
DESCRIPTION:Die kundenorientierte Entwicklung von Produkten und Dienstleist
 ungen als wichtiger Erfolgsfaktor für Ihr Unternehmen\nDieses Intensiv-Sem
 inar widmet sich der kundenorientierten Gestaltung von Produkten und Diens
 tleistungen mittels Design Thinking. Hierbei werden die Bedürfnisse von Ku
 nden aufgegriffen und mittels eines strukturierten Prozesses in Form von P
 rototypen umgesetzt. Design Thinking kann dabei sowohl im Endkunden-\, als
  auch im Geschäftskundenbereich eingesetzt werden.\nInhalt\nDas Seminar bi
 etet Ihnen die Möglichkeit\, Design Thinking kennenzulernen und anzuwenden
 . Es enthält neben Grundlagen auch ein Vorgehensmodell mit geeigneten Inst
 rumenten.Die Teilnehmer können kundenorientierte Produkte und Dienstleistu
 ngen gestalten und diese in ein Geschäftsmodell integrieren. Die Teilnehme
 r wenden die Inhalte in Teamarbeiten an.\nZiele\n\nSie lernen das Vorgehen
  für Design Thinking kennen.\nSie lernen die Instrumente kennen\, um kunde
 norientierte Produkte und Dienstleistungen zu erstellen.\nSie lernen Mögli
 chkeiten kennen\, um Nutzer und Produkte zu visualisieren.\nSie wissen\, w
 ie Ideen abgeleitet\, beschrieben und weiterentwickelt werden.\nSie wissen
 \, wie Prototypen für Produkte und Dienstleistungen entwickelt werden.\nMe
 thodische Herangehensweise\nInteraktive Präsentation\nPraxisorientierte Fa
 llstudien\nGruppenarbeiten zur Analyse eigener und fremder Geschäftsmodell
 e\nDiskussion erzielter Ergebnisse\nEinsatz von Kreativitätstechniken\n\nZ
 ielgruppe\nAlle Interessierten\, vor allem Inhaber\, Geschäftsführer und M
 anager aus den Bereichen Strategie\, Business Development\, Innovation\, I
 nnovationsmanagement\, Produktentwicklung sowie Berater aus den Bereichen 
 Strategie\, Organisation\, Produkt- und Unternehmensentwicklung\nVeranstal
 ter dieses Seminars ist das Institut für Weiterbildung\, Wissend- und Tech
 nologietransfer (IWT).\nAnmeldefrist ist der 11.11.2018.\nWeitere Informat
 ionen zur Veranstaltung und Anmeldung finden Sie hier.  http://bomi40.eu/d
 e/service-kompetenz/veranstaltungen/ort/event/1221-seminar-design-thinking
DTSTART:20181119T080000Z
DTEND:20181120T160000Z
LOCATION:DHBW Ravensburg Campus Friedrichshafen (Fallenbrunnen 2\, 88045 Fr
 iedrichshafen\, Deutschland)
SUMMARY:Seminar „Design Thinking“
URL:http://bomi40.eu/de/service-kompetenz/veranstaltungen/ort/event/1221-se
 minar-design-thinking
END:VEVENT
END:VCALENDAR
