BEGIN:VCALENDAR
VERSION:2.0
PRODID:-//http://bomi40.eu///NONSGML kigkonsult.se iCalcreator 2.10.15//
METHOD:PUBLISH
BEGIN:VEVENT
UID:20260419T203343CEST-3579Ipu3UK@http://bomi40.eu/
DTSTAMP:20260419T183343Z
DESCRIPTION:Die Initiative Security hat zum Ziel\, einen Kompetenzaufbau in
 teressierter bayerischer Produktionsfirmen und Systemintegratoren zu effek
 tiven Schutzmaßnahmen gegen Cyberangriffe zu bewirken. Um vorhandene Kompe
 tenz mit der Praxis zu verbinden\, wird im Cluster ein sogenanntes SIT (St
 rategic Innovation Team) aus interessierten Unternehmen (Anwender und Expe
 rte) gegründet.\nProduktionsbetriebe und Systemintegratoren können sich üb
 er Seminarangebote\, Gesprächskreise mit Experten und Forschungsergebnisse
  der führenden Bayerischen Sicherheitsinstitute selbst eine Meinung über i
 hre Situation und die aktuellen Gefahrenlage bilden und geeignete Entschei
 dungen über ihre Arbeitsumgebung fällen. Die OT-Sicherheit (Operational Te
 chnology) ist keine Kernkompetenz der Produktionsfirmen und Systemintegrat
 oren\, wird aber künftig fester Bestandteil der Planung werden.\nAgenda:\n
 \nSafety & Security\, IoT geht nicht ohne // Max Perner\, Infoteam Softwar
 e AG\nAlles kommuniziert: Produktion\, Produkte. Kann das gutgehen? Ein Er
 fahrungsbericht aus der Praxis // Matthias Brose\, Schaeffler Group\nIT-Si
 cherheit in der Produktion geht anders – andere Gefahren\, andere Maßnahme
 n // Mittelstand 4.0 – Kompetenzzentrum Chemnitz\nAntwort auf die Risikoex
 plosion: Neue Fachgruppe Security im Cluster M&A und ihre Möglichkeiten //
  Karl-Heinz John\, Vorstand Cluster M&A\nLife-Hacking: Die Angriffswelle r
 ollt. Demonstration an realen Anlagen // Jochen Bauer\, FAU Erlangen-Nürnb
 erg\; Joachim Hader\, Secudor\nSIT SEC\, Aufbau einer Kompetenz für alle G
 ruppenmitglieder\; erste Ergebnisse\, springen Sie auf! // Jochen Bauer\, 
 FAU Erlangen-Nürnberg\n\nDie Veranstaltung richtet sich an Vertreter von P
 roduktionsfirmen\, F&E Einrichtungen\, Produktionstechnik\, Systemintegrat
 oren\, Soft- und Hardware Unternehmen aus der Mechatronik.\nVeranstalter i
 st die Cluster Mechatronik & Automation Management gGmbH.\nDie Teilnahme i
 st kostenfrei\, bitte melden Sie sich bis zum 6.11.18 auf der Veranstaltun
 gswebsite an.\n&nbsp\;\n&nbsp\; http://bomi40.eu/de/service-kompetenz/vera
 nstaltungen/ort/event/1222-security-in-der-produktion-hilfe-zur-selbsthilf
 e
DTSTART;VALUE=DATE:20181113
LOCATION:Infoteam Software AG (Am Bauhof 9\, 91088 Bubenreuth\, Deutschland
 )
SUMMARY:Security in der Produktion – Hilfe zur Selbsthilfe
URL:http://bomi40.eu/de/service-kompetenz/veranstaltungen/ort/event/1222-se
 curity-in-der-produktion-hilfe-zur-selbsthilfe
END:VEVENT
END:VCALENDAR
