BEGIN:VCALENDAR
VERSION:2.0
PRODID:-//http://bomi40.eu///NONSGML kigkonsult.se iCalcreator 2.10.15//
METHOD:PUBLISH
BEGIN:VEVENT
UID:20260419T180506CEST-1545nTUvuU@http://bomi40.eu/
DTSTAMP:20260419T160506Z
DESCRIPTION:Im Zuge der Digitalisierung industrieller Wertschöpfungsketten 
 werden technische Services im Maschinen- und Anlagenbau zu einem gewichtig
 en Differenzierungsmerkmal und Wettbewerbsfaktor. Heutige Kunden suchen ni
 cht mehr nur nach einem fertigen Produkt\, sondern nach spezifisch auf ihr
 e Bedürfnisse zugeschnittenen Lösungen. Bewährte Erfolgsrezepte zu hinterf
 ragen und die Chancen ergänzender Geschäftsmodelle für das eigene Unterneh
 men zu erkennen\, fällt nicht immer leicht.\nStrukturieren - verstehen - I
 deen entwickeln - teilen. In diesem visuell begleiteten\, moderierten Work
 shop erfahren Sie\, wie Sie ihr aktuelles Geschäftsmodell beschreiben\, er
 gänzende Geschäftsmodelle entwickeln und den individuellen Kundennutzen ei
 nes Geschäftsmodells definieren können. In Übungen lernen Sie zudem\, Ertr
 ags- und Kostenmodelle zu formulieren und erhalten einen Einblick wie Gesc
 häftsmodelle in Wertschöpfungsketten und Ökosystemen gestalten werden könn
 en.\nDer VDMA lädt herzlich ein\, in diesem interaktiven Workshop gemeinsa
 m mit der Moderatorin Sophia Hatzelmann mit Innovationsmethoden an Ideen u
 nd Konzepten für Geschäftsmodelle zu feilen.\nZielgruppe: Das Seminar rich
 tet sich an Fach- und Führungskräfte sowie Mitarbeiter anderer Bereiche un
 d Hierarchie-Ebenen\, die Vorgehensweisen und Methoden kennenlernen möchte
 n\, mit denen sie erfolgreich Geschäftsmodelle entwickeln und neu gestalte
 n können.\nTagesordnung:\n\n\nBegrüßung der Teilnehmer und interaktive Vor
 stellungsrundeJana Eiser-Mauthner\, VDMA Baden-Württemberg & Sophia Hatzel
 mann\, ahc GmbH\n\n\nVorstellung von InnovationsmethodenSophia-Hatzelmann\
 , ahc GmbH\n\n\nPraxisbeispiele zu digitalen GeschäftsmodellenSophia-Hatze
 lmann\, ahc GmbH- Gemeinsame Themensammlung- Austausch und Diskussion\n\nW
 orkshop zur individuellen Findung von möglichen Geschäftsmodellen mit Hilf
 e von Design Thinking und Business Model Generator\n\nZukünftige Veranstal
 tungen und weitere Unterstützungsangebote zu Industrie 4.0Jana Eiser-Mauth
 ner\, VDMA Baden-Württemberg\n\n\nDie Teilnehmerzahl ist auf 15 Personen b
 egrenzt. Anmeldungen (max. eine Person pro Unternehmen) werden daher in de
 r Reihenfolge des Eingangs erfasst.\nBitte melden Sie sich bis spätestens 
 30. November 2018 unter folgendem Link zu der Veranstaltung an. http://bom
 i40.eu/de/service-kompetenz/veranstaltungen/ort/event/1233-workshop-digita
 le-geschaeftsmodelle-entwickeln
DTSTART:20181205T090000Z
DTEND:20181205T160000Z
LOCATION:HTWG Konstanz (Alfred-Wachtel-Str. 8\, 78462 Konstanz)
SUMMARY:Workshop: Digitale Geschäftsmodelle entwickeln
URL:http://bomi40.eu/de/service-kompetenz/veranstaltungen/ort/event/1233-wo
 rkshop-digitale-geschaeftsmodelle-entwickeln
END:VEVENT
END:VCALENDAR
