BEGIN:VCALENDAR
VERSION:2.0
PRODID:-//http://bomi40.eu///NONSGML kigkonsult.se iCalcreator 2.10.15//
METHOD:PUBLISH
BEGIN:VEVENT
UID:20260419T202341CEST-1067B1uil0@http://bomi40.eu/
DTSTAMP:20260419T182341Z
DESCRIPTION:Technology is taking over our customer experience at a fast pac
 e. Being an informed customer\, we become a connected customer who wants a
  real-time experience. Today we’re evolving towards a hyper personal and p
 ro-active customer relation. Technological Intelligence is a key-driver to
  facilitate this evolution. Data is the oil and intelligence the engine of
  the new experience. In his lecture\, Tom Fleerackers gives insights on th
 is current evolution and shows the potential power of this technology.\nTh
 e more we trust and rely on this intelligent technology the easier our lif
 e will become\, but do we really want our life to be run by technology? Wi
 ll we be able to remain ‘human’ with our ‘own’ (private) life? Or is full 
 transparency inevitable? Tom might not have all the answers\, but is looki
 ng forward to discuss these questions with you.\nTom Fleerackers is Progra
 m Manager at Karel de Grote University College in Antwerp. He is living an
 d exploring digital society since graduating in Commercial Science with an
  additional degree in Strategic Communication. His fascination for all thi
 ngs digital brings him at premium spots across the globe. As lecturer\, he
  is inspiring students concerning this digital impact all over Europe.\nAu
 strianStartups StammtischIm Anschluss an das Event\, um 20.00 Uhr findet d
 er AustrianStartups Stammtisch in der startupstube der FH Vorarlberg statt
 . Eine Teilnahme nur am Stammtisch ist ebenfalls möglich.\nWeitere Informa
 tionen zur Anmeldung und zur Veranstaltung finden Sie hier. http://bomi40.
 eu/de/service-kompetenz/veranstaltungen/ort/event/1241-how-artificial-inte
 lligence-affects-our-customer-experience
DTSTART;VALUE=DATE:20181120
LOCATION:FH Vorarlberg\, Raum U2 07 (Hochschulstraße 1\, 6850 Dornbirn\, Ös
 terreich)
SUMMARY:How Artificial Intelligence affects our customer experience
URL:http://bomi40.eu/de/service-kompetenz/veranstaltungen/ort/event/1241-ho
 w-artificial-intelligence-affects-our-customer-experience
END:VEVENT
END:VCALENDAR
