BEGIN:VCALENDAR
VERSION:2.0
PRODID:-//http://bomi40.eu///NONSGML kigkonsult.se iCalcreator 2.10.15//
METHOD:PUBLISH
BEGIN:VEVENT
UID:20260419T190940CEST-8587ZELwvu@http://bomi40.eu/
DTSTAMP:20260419T170940Z
DESCRIPTION:FairCoin facilitates a next generation approach for creating bl
 ocks in a blockchain. Blocks are created in cooperation\, by so called 'co
 -operatively validated nodes' (CVNs). The proof-of-cooperation (PoC) power
  consumption is negligible compared to mining and minting found in other b
 lockchain mechanisms. Operational parameters such as the fee can be adjust
 ed dynamically by chain admins in accordance with a consensus based assemb
 ly decision. The FairCoop community has built several tools and a market t
 o foster a fair global economy with FairCoin.\nReferent: DI Dr. Roland Alt
 on-Scheidl\nWeitere Informationen zur Veranstaltung finden Sie hier. http:
 //bomi40.eu/de/service-kompetenz/veranstaltungen/ort/event/1242-technikerf
 orum
DTSTART;VALUE=DATE:20181114
LOCATION:FH Vorarlberg\, Raum W2 06 (Hochschulstraße 1\, 6850 Dornbirn\, Ös
 terreich)
SUMMARY:Technikerforum
URL:http://bomi40.eu/de/service-kompetenz/veranstaltungen/ort/event/1242-te
 chnikerforum
END:VEVENT
END:VCALENDAR
