BEGIN:VCALENDAR
VERSION:2.0
PRODID:-//http://bomi40.eu///NONSGML kigkonsult.se iCalcreator 2.10.15//
METHOD:PUBLISH
BEGIN:VEVENT
UID:20260419T193440CEST-0057wMIIbP@http://bomi40.eu/
DTSTAMP:20260419T173440Z
DESCRIPTION:Inhalt: An sechs Workshop-Tagen wird mit verschiedenen innovati
 ven Peer-Learning und Bottom-up Methoden gearbeitet\, um als Unternehmerpe
 rsönlichkeit zu wachsen und professionelle Kooperationen einzugehen. Das E
 rgebnis dieses Entwicklungsprozesses ist ein hochwertiges und stetig wachs
 endes\, österreichweites Kreativwirtschaftsnetzwerk.\nZielgruppe: Die Vera
 nstaltung richtet sich an Freischaffende\, Mitarbeitende oder UnternehmerI
 nnen u.a. aus den Bereichen Design\, Mode\, Architektur\, Multimedia\, Sof
 tware & Games\, Video & Film und Werbung.\nDaten: Workshops-Daten: 16. Jan
 uar 2019 / 05. Februar 2019 /&nbsp\;12. März 2019 /&nbsp\;02. April 2019 /
 &nbsp\;07. Mai 2019 /&nbsp\;04. Juni 2019 - jeweils von 09.00 bis 17.00 Uh
 r Abschluss-Event: 25. Juni 2019\nÜber das Kreativwirtschaftscoaching C ho
 ch 3Seit 2008 absolvierten über 800 Kreativschaffende das Kreativwirtschaf
 tscoaching C hoch 3 und konnten dabei ihre Unternehmen aufbauen und gemein
 sam die Herausforderungen der Selbstständigkeit meistern.\nTeilnahme: Die 
 Teilnahme wird von der Kreativwirtschaft Austria und ihren regionalen Part
 nerorganisationen gefördert und ist somit kostenfrei. Eine Anmeldung ist b
 is 9. November möglich.\nDie WISTO Ist Partner des designforum Vorarlbergs
  und berät auch gerne zu den Unterstützungsmöglichkeiten der KAT und der a
 ws für Kreativschaffende.\nWeitere Informationen zu der Veranstaltung sowi
 e Anmeldung finden Sie hier.\n&nbsp\;\n http://bomi40.eu/de/service-kompet
 enz/veranstaltungen/ort/event/1246-kreativwirtschaftscoaching-c-hoch-3-201
 9
DTSTART;VALUE=DATE:20190116
LOCATION:designforum Vorarlberg CAMPUS V (Hintere Achmühlerstraße 1\, 6850 
 Dornbirn\, Österreich)
SUMMARY:Kreativwirtschaftscoaching C hoch 3 2019
URL:http://bomi40.eu/de/service-kompetenz/veranstaltungen/ort/event/1246-kr
 eativwirtschaftscoaching-c-hoch-3-2019
END:VEVENT
END:VCALENDAR
