BEGIN:VCALENDAR
VERSION:2.0
PRODID:-//http://bomi40.eu///NONSGML kigkonsult.se iCalcreator 2.10.15//
METHOD:PUBLISH
BEGIN:VEVENT
UID:20260419T194210CEST-6581WZ8Z4c@http://bomi40.eu/
DTSTAMP:20260419T174210Z
DESCRIPTION:\nDie Wirtschaft wandelt sich zunehmend von der industriellen F
 ertigung zur wissensbasierten Kreation von Leistungssystemen und Service-A
 ngeboten. Innovation wird nicht mehr nur im Zusammenhang mit neuen Produkt
 en gesehen\, sondern beinhaltet je länger je mehr auch Prozesse\, Services
  und Verfahren mittels neuartiger Kommunikations- und Kollaborationswege. 
 Design Thinking ist eine Innovations-Methodik mit dem Ziel\, komplexe und 
 gesellschaftlich relevante Probleme zu lösen\, sowie innovative Produkte u
 nd Dienstleistungen zu entwickeln.\nLetztlich geht es darum\, neue Lösungs
 ansätze mit einer hohen Entscheidungssicherheit umsetzen zu können. Das Mo
 dul «Entwicklung von Produkt- und Prozessinnovationen»&nbsp\;führt die Tei
 lnehmenden Schritt für Schritt durch einen designgetriebenen Innovationspr
 ozess.&nbsp\;\nDauer und Termine  6 Tage\; 23. und 24. November\, 7./8./21
 . und 22. Dezember 2018\nZieleDie Teilnehmenden können die einzelnen Metho
 den und Werkzeuge des Design Thinking-Prozesses anwenden und Vorschläge zu
  Verbesserungen von Produkten\, Dienstleistungen oder Prozessen machen. Eb
 enfalls können Sie systemdynamische Modelle quantitativ modellieren und ko
 mplexe Ursachen-Wirkungs-Zusammenhänge&nbsp\;graphisch darstellen.&nbsp\;
 \nZielgruppeDas Seminar richtet sich an Fach- und Führungskräfte\, die in 
 ihrer täglichen Arbeit entwicklungsorientiert nach neuen Lösungen suchen: 
 zum Beispiel&nbsp\;Unternehmerinnen und Unternehmer\, Consultants\, Produk
 tmanagerinnen und Produktmanager\, Ingenieurinnen und Ingenieure\, Konstru
 kteurinnen und Konstrukteure\, Grafikschaffende\, Marketingfachleute\, Ges
 talterinnen und Gestalter sowie Jungunternehmerinnen und Jungunternehmer.&
 nbsp\;\nAbschluss Weiterbildungsnachweis der FHS St.Gallen\nWeitere Inform
 ationen zur Anmeldung und Veranstaltung finden Sie hier.\n http://bomi40.e
 u/de/service-kompetenz/veranstaltungen/ort/event/1247-seminar-entwicklung-
 von-produkt-und-prozessinnovationen
DTSTART;VALUE=DATE:20181123
LOCATION:FHS St. Gallen (FHS St. Gallen\, Rosenbergstrasse 59\, 9000 St. Ga
 llen\, Schweiz)
SUMMARY:Seminar - Entwicklung von Produkt- und Prozessinnovationen
URL:http://bomi40.eu/de/service-kompetenz/veranstaltungen/ort/event/1247-se
 minar-entwicklung-von-produkt-und-prozessinnovationen
END:VEVENT
END:VCALENDAR
