BEGIN:VCALENDAR
VERSION:2.0
PRODID:-//http://bomi40.eu///NONSGML kigkonsult.se iCalcreator 2.10.15//
METHOD:PUBLISH
BEGIN:VEVENT
UID:20260419T192737CEST-9409ao4Gmg@http://bomi40.eu/
DTSTAMP:20260419T172737Z
DESCRIPTION:Der Workshop Design Thinking & Lean Innovation bietet Ihnen die
  Möglichkeit\, neue Lösungsansätze für bestehene Herausforderungen zu erar
 beiten sowie selbst neue Ideen zu entwickeln. Durch die im Workshop erlern
 te Herangehensweise werden kreative und ungewöhnliche Lösungsansätze geför
 dert. Als Basis dient das Buch „DAS DESIGN THINKING PLAYBOOK“\, welches fü
 r den Kurs zur Verfügung gestellt wird.&nbsp\;Der zweitägige Workshop find
 et folgenden Terminen statt: 22. Februar und 8. März 2019.\nWeitere Inform
 ationen zu der Veranstaltung und Anmeldung finden Sie hier. http://bomi40.
 eu/de/service-kompetenz/veranstaltungen/ort/event/1248-workshop-design-thi
 nking-lean-innovation
DTSTART;VALUE=DATE:20190222
LOCATION:NTB Campus Buchs (Werdenbergstrasse 4\, 9471 Buchs\, Schweiz)
SUMMARY:Workshop Design Thinking & Lean Innovation
URL:http://bomi40.eu/de/service-kompetenz/veranstaltungen/ort/event/1248-wo
 rkshop-design-thinking-lean-innovation
END:VEVENT
END:VCALENDAR
