BEGIN:VCALENDAR
VERSION:2.0
PRODID:-//http://bomi40.eu///NONSGML kigkonsult.se iCalcreator 2.10.15//
METHOD:PUBLISH
BEGIN:VEVENT
UID:20260419T191016CEST-22134fGsmV@http://bomi40.eu/
DTSTAMP:20260419T171016Z
DESCRIPTION:Die SINDEX ist die maßgebende Schweizer Messe für industrielle 
 Automatisierung.\n\nzeigt Trends\, Innovationen und Schlüsseltechnologien 
 der Branche von morgen.\nist das Schaufenster für Dienstleistungen und Pro
 dukte aus Automation\, Fluidtechnik\, Elektrotechnik und verwandten Bereic
 hen.&nbsp\;\nzeigt einzelne Komponenten\, aber auch Gesamtlösungen.\nbiete
 t einen Gesamtüberblick über die Schweizer Technologiebranche.\nist der wi
 chtigste Treffpunkt der Branche.\nfindet alle zwei Jahre\, alterierend zur
  'automation & electronics'\, jeweils im September statt.\nsteht für Swiss
 ness.\nschafft die Verbindung zwischen Deutschschweiz und Romandie.&nbsp\;
 \n\nWeitere Informationen zu der Messe finden Sie hier.&nbsp\; http://bomi
 40.eu/de/service-kompetenz/veranstaltungen/ort/event/125-sindex-die-schwei
 zer-technologiemesse
DTSTART:20180428T070000Z
DTEND:20180430T150000Z
LOCATION:BERNEXPO AG (Mingerstrasse 6\, 3000 Bern 22\, Schweiz)
SUMMARY:SINDEX - Die Schweizer Technologiemesse
URL:http://bomi40.eu/de/service-kompetenz/veranstaltungen/ort/event/125-sin
 dex-die-schweizer-technologiemesse
END:VEVENT
END:VCALENDAR
