BEGIN:VCALENDAR
VERSION:2.0
PRODID:-//http://bomi40.eu///NONSGML kigkonsult.se iCalcreator 2.10.15//
METHOD:PUBLISH
BEGIN:VEVENT
UID:20260419T180603CEST-15922pjoR5@http://bomi40.eu/
DTSTAMP:20260419T160603Z
DESCRIPTION:Die IT-Expo.ch ist mehr als eine IT-Messe\, sie ist die grösste
  IT-Solution- Plattform der Schweiz: Die Vernetzung der IT-Expo.ch mit den
  Parallelmessen Personal Swiss\, SOM\, Talent Pro und Workplace Strategy i
 st eine der entscheidenden Erfolgskomponenten. Insbesondere im Marketing e
 rgeben sich beispielsweise in der Besucheransprache wertvolle Synergien\, 
 von denen Sie als Aussteller profitieren: Über 100 „klassische“ IT-Ausstel
 ler sind in Zürich vertreten.\nAusstellerschwerpunkte:&nbsp\;\nPaaS\,&nbsp
 \;Cloud Solutions\,&nbsp\;IT-Security Solutions\,&nbsp\;Business Software\
 ,&nbsp\;ERP – Enterprise Resource Planning\,&nbsp\;CRM - Customer Relation
 ship Management\,&nbsp\;Document Management Solutions\, (DMS) / Enterprise
  Contentmanagement (ECM)\,&nbsp\;BPM Business Process Management\,&nbsp\;C
 ollaboration Solutions\,&nbsp\;Mobile Solutions\,&nbsp\;IT-Consulting\,&nb
 sp\;IT-Services\,&nbsp\;Big Data / Data Mining\,&nbsp\;BI Business Intelli
 gence & Business Analytics\,&nbsp\;Managed Services / Business Process Out
 sourcing (BPO) / Outsourcing Storage\,&nbsp\;Product Information Managemen
 t (PIM) / Computer-aided Design (CAD)\,&nbsp\;Finance & Accounting Softwar
 e\,&nbsp\;Zeitwirtschaft & HR-Software\,&nbsp\;E-Business Software Lösunge
 n\,&nbsp\;Payment Prozesse & Lösungen\,&nbsp\;CRM & Online Marketing IT-Lö
 sungen &&nbsp\;IT-Marketing\nWeitere Informationen zu der Messe finden Sie
  hier. http://bomi40.eu/de/service-kompetenz/veranstaltungen/ort/event/126
 -it-expo-ch-fachmesse-fuer-business-software-security-document-solutions
DTSTART:20180418T070000Z
DTEND:20180418T153000Z
LOCATION:Halle 2\, MCH Messe Schweiz (Zürich) AG (Wallisellenstrasse 45\, 8
 050 Zürich\, Schweiz)
SUMMARY:IT-EXPO.ch - Fachmesse für Business Software\, Security & Document 
 Solutions
URL:http://bomi40.eu/de/service-kompetenz/veranstaltungen/ort/event/126-it-
 expo-ch-fachmesse-fuer-business-software-security-document-solutions
END:VEVENT
END:VCALENDAR
