BEGIN:VCALENDAR
VERSION:2.0
PRODID:-//http://bomi40.eu///NONSGML kigkonsult.se iCalcreator 2.10.15//
METHOD:PUBLISH
BEGIN:VEVENT
UID:20260419T193818CEST-86742tRbS7@http://bomi40.eu/
DTSTAMP:20260419T173818Z
DESCRIPTION:Wie kann die Produktionsplanung mit den neuen Möglichkeiten der
  Digitalisierung in Zukunft besser gestaltet werden? Welche Ansätze sind v
 ielversprechend und wie lassen sich diese konkret umsetzen? Um Ihnen die P
 erspektiven des neuen Industriezeitalters näherzubringen\, lädt die ZHAW P
 lattform Industrie 4.0 zu der dritten Konferenz am 4. September 2019 in Wi
 nterthur ein.\nIm Fokus der Konferenz stehen Fragen zur dynamischen und au
 tomatisierten Produktionsplanung\, so dass eine reibungslose\, schnelle un
 d doch flexible Auftragsbearbeitung garantiert werden kann. Kurzfristigen 
 und variantenreichen Kundenwünschen können morgen nur mit Hilfe von aktuel
 len Daten aus der Produktion und akkuraten Planungsgrundlagen effizient be
 gegnet werden. Welche Instrumente und Tools stehen heute schon zur Verfügu
 ng? Und wie kann ein Unternehmen bereits in der Phase des Produktdesigns d
 en späteren Produktionsablauf positiv beeinflussen?\nReferenten innovative
 r Unternehmen aus dem In- und Ausland\, sowie Hochschulen präsentieren ihr
 e Erfahrungen mit modernen Lösungsansätzen in der Produktionsplanung und S
 teuerung und zeigen die vielfältigen Umsetzungsmöglichkeiten an Hand von r
 ealen Beispielen auf. Tauschen Sie sich mit Fachkollegen aus und lassen Si
 e sich von neuen Ideen inspirieren. \nWeitere Informationen zu der Veranst
 altung und Anmeldung finden Sie auf der Website der Veranstalter... http:/
 /bomi40.eu/de/service-kompetenz/veranstaltungen/ort/event/1285-3-konferenz
 -perspektiven-mit-industrie-4-0-produktion-4-0-planung-und-steuerung-von-p
 roduktionsprozessen-in-der-digitalen-welt
DTSTART;VALUE=DATE:20190904
LOCATION:ZHAW School of Management and Law\, Winterthur (ZHAW School of Man
 agement and Law\, St.-Georgen-Platz 2\, 8401 Winterthur)
SUMMARY:3. Konferenz «Perspektiven mit Industrie 4.0» – Produktion 4.0: Pla
 nung und Steuerung von Produktionsprozessen in der digitalen Welt
URL:http://bomi40.eu/de/service-kompetenz/veranstaltungen/ort/event/1285-3-
 konferenz-perspektiven-mit-industrie-4-0-produktion-4-0-planung-und-steuer
 ung-von-produktionsprozessen-in-der-digitalen-welt
END:VEVENT
END:VCALENDAR
