BEGIN:VCALENDAR
VERSION:2.0
PRODID:-//http://bomi40.eu///NONSGML kigkonsult.se iCalcreator 2.10.15//
METHOD:PUBLISH
BEGIN:VEVENT
UID:20260419T193237CEST-7624PLemIW@http://bomi40.eu/
DTSTAMP:20260419T173237Z
DESCRIPTION:In Kooperation mit der DHBW Ravensburg lädt die Initiative #bod
 enseeinnovativ herzlich zum 1. Leichtbautag in Friedrichshafen ein. Unter 
 dem Motto „Leichtbaulösungen für die Technologien von morgen“ erwartet Sie
  ein vielfältiges Vortragsprogramm zu aktuellen Themen sowie die Möglichke
 it die Lernfabrik Fallenbrunnen\, das studentische Projekt Global Formular
  Racing oder das Leichtbaulabor zu besichtigen.\nDer Fachtag richtet sich 
 an alle Entscheider und Fachexperten aus dem Bereich Leichtbau sowie an al
 le Interessierten.\nVorträge\n\n'Neue Produktionsstrategien im modernen Fl
 ugzeugbau'\nSebastian Müller\, Airbus Group\, Hamburg\n\n&nbsp\;\n'Werksto
 ffleichtbau gestern - heute - morgen bei Audi'\nleichtbauzentrum Audi AG\,
  Neckarsulm\n&nbsp\;\n'Additive Fertigungsverfahren mit CFK'\nDr. Farbod N
 ezami\, TTI GmbH - CIKONI TGU\, Stuttgart\n&nbsp\;\n'Textile Technologien 
 für Faserverbundwerkstoffe'\nProf. Dr. Markus Milwich\, Deutsche Institute
  für Textil- und Faserforschung (DITF)\, Denkendorf\n&nbsp\;\n'Verzugseffe
 kte bei Faserverbundwerkstoffen'\nProf. Dr. Christian Brauner\, Fachhochsc
 hule der Nordwestschweiz Windisch/CH\n&nbsp\;\n'CFK-Lösungen aus dem Mitte
 lstand am Bodensee'\nRobert Bastian\, CarboFibertec GmbH\, Friedrichshafen
 \n&nbsp\;\n'CFK-Produktionskonzepte in der interdisziplinären Lernfabrik'
 \nKris Dalm\, IWT Wirtschaft und Technik GmbH\, Friedrichshafen und Prof. 
 Dr. Holger Purol\, DHBW Ravensburg\, Campus Friedrichshafen\n&nbsp\;\n'Lei
 chtbau in Friedrichshafen - Das Angebot und Schlusswort'\nProf. Dr. Holger
  Purol\, DHBW Ravensburg\, Campus Friedrichshafen\n&nbsp\;\n&nbsp\;\nBei L
 iF 2017: Leichtbau in Friedrichshafen handelt sich um eine kostenfreie Ver
 anstaltung im Rahmen der Initiative #bodenseeinnovativ. \nDie Einladung un
 d das Programm finden Sie hier. http://bomi40.eu/de/service-kompetenz/vera
 nstaltungen/ort/event/129-lif-2017-leichtbau-in-friedrichshafen
DTSTART:20170921T080000Z
DTEND:20170921T140000Z
LOCATION:DHBW Ravensburg Campus Friedrichshafen (Fallenbrunnen 2\, 88045 Fr
 iedrichshafen\, Deutschland)
SUMMARY:LiF 2017: Leichtbau in Friedrichshafen
URL:http://bomi40.eu/de/service-kompetenz/veranstaltungen/ort/event/129-lif
 -2017-leichtbau-in-friedrichshafen
END:VEVENT
END:VCALENDAR
