BEGIN:VCALENDAR
VERSION:2.0
PRODID:-//http://bomi40.eu///NONSGML kigkonsult.se iCalcreator 2.10.15//
METHOD:PUBLISH
BEGIN:VEVENT
UID:20260419T181012CEST-7632RVunf1@http://bomi40.eu/
DTSTAMP:20260419T161012Z
DESCRIPTION:Das 1×1 des Innovationsmanagements für kleine und mittlere Unte
 rnehmen\nWir wissen\, dass das Tagesgeschäft häufig an erster Stelle für S
 ie steht. Doch was ist mit Morgen? Haben Sie sich schon mal gefragt\, welc
 he Bedeutung Innovation für Ihr Unternehmen hat? Und was ist eigentlich ei
 ne Innovation?\nUm im Wettbewerb bestehen zu können sind Neuerungen von Pr
 odukten\, Dienstleistungen und Geschäftsmodellen von zentraler Bedeutung. 
 Kleine und mittlere Unternehmen sehen sich hier vor der Herausforderung ih
 re begrenzten Ressourcen gezielt einzusetzen und auf ihr Unternehmen abges
 timmt eine Systematik zu implementieren\, die Innovationen fördert. Dabei 
 ist es wichtig die Kundenbrille aufzusetzen und sich ständig zu fragen\, w
 elche Bedürfnisse noch nicht befriedigt sind. Veränderungen im Umfeld könn
 en dabei wichtige Hinweise für die Entwicklung von neuartigen Produkten un
 d Dienstleistungen geben. In unserem interaktiven Vortrag vermitteln wir I
 hnen das passende methodische Handwerkszeug und geben Ihnen einen ersten E
 instieg in die Grundlagen des Innovationsmanagements. Im Anschluss laden w
 ir Sie herzlich ein sich mit uns und den anderen Teilnehmern bei einem Gla
 s Wein und Snacks auszutauschen.Es handelt sich um eine kostenfreie Verans
 taltung im Rahmen der Initiative #bodenseeinnovativ.Um Anmeldung wird gebe
 ten. http://bomi40.eu/de/service-kompetenz/veranstaltungen/ort/event/1293-
 artgerechte-innovationshaltung-interaktiver-vortrag
DTSTART:20190220T163000Z
DTEND:20190220T180000Z
LOCATION:DHBW Ravensburg\, Campus Friedrichshafen (Fallenbrunnen 2\, 88045 
 Friedrichshafen\, Deutschland)
SUMMARY:Artgerechte Innovationshaltung - Interaktiver Vortrag
URL:http://bomi40.eu/de/service-kompetenz/veranstaltungen/ort/event/1293-ar
 tgerechte-innovationshaltung-interaktiver-vortrag
END:VEVENT
END:VCALENDAR
