BEGIN:VCALENDAR
VERSION:2.0
PRODID:-//http://bomi40.eu///NONSGML kigkonsult.se iCalcreator 2.10.15//
METHOD:PUBLISH
BEGIN:VEVENT
UID:20260419T192948CEST-5263aLUkMi@http://bomi40.eu/
DTSTAMP:20260419T172948Z
DESCRIPTION:In interdisziplinären Teams erarbeiten Sie anhand eines fiktive
 n Falles aus dem Unternehmenskontext eine neue Idee für ein digitales Gesc
 häftsmodell. Dabei erfahren Sie\, wie Sie&nbsp\;\n\n\ndie Ausgangssituatio
 n des Unternehmens gezielt analysieren\,\ndie Bedarfe Ihrer Kunden und Nut
 zer herausarbeiten\,\nkundenorientierte digitale Ideen entwickeln\,&nbsp\;
 \nein erstes digitales Unternehmenskonzept mittels des Business Model Canv
 as erstellen und in einen Prototypen überführen und testen\,\nsowie eine R
 oadmap für die nächsten Schritte erstellen. &nbsp\;\n\n\nFür jede dieser P
 hasen lernen Sie konkrete Methoden kennen\, wie Sie die Schritte einfach i
 n Ihrem Unternehmen umsetzen können.&nbsp\;\nIm Anschluss an den eintägige
 n Workshop bietet das DIGITRANS-Projekt den Teilnehmenden ein weiterführen
 des Angebot an:\n\n\n30-minütige Online-Beratung für Ihre eigene Geschäfts
 modellidee\nIndividueller eintägiger Workshop für max. zehn KMU im Inkubat
 or am HHZ – Hermann Hollerith Zentrum\, Böblingen\, nach Bewerbung mit ein
 er ersten Geschäftsmodellidee (Juli 2018 – Juni 2019\n\nZielgruppe:  Gesch
 äftsführer von KMU\; Mitarbeiter des oberen Managements\; Mitarbeiter\, di
 e Digitalprojekte in KMU umsetzen aus Kreativwirtschaft\, Produktion und G
 esundheitswirtschaft.\nReferenten:  Petra Newrly Leiterin Projektteam Digi
 tale Kultur  Martin Kinitzki Forschungsgruppe Service Science\nVeranstalte
 r: MFG Baden-Württemberg\nDie Veranstaltung ist kostenfrei\, eine Anmeldun
 g ist bis zum 9. Januar erforderlich.\nWeitere Inforamtionen zu der Verans
 taltung und zu der Anmeldung finden Sie hier.\n http://bomi40.eu/de/servic
 e-kompetenz/veranstaltungen/ort/event/1297-entwicklung-digitaler-geschaeft
 smodelle
DTSTART;VALUE=DATE:20190116
LOCATION:MFG Medien- und Filmgesellschaft Baden-Württemberg (Breitscheidstr
 aße 4\, 70174 Stuttgart\, Deutschland)
SUMMARY:Entwicklung digitaler Geschäftsmodelle
URL:http://bomi40.eu/de/service-kompetenz/veranstaltungen/ort/event/1297-en
 twicklung-digitaler-geschaeftsmodelle
END:VEVENT
END:VCALENDAR
