BEGIN:VCALENDAR
VERSION:2.0
PRODID:-//http://bomi40.eu///NONSGML kigkonsult.se iCalcreator 2.10.15//
METHOD:PUBLISH
BEGIN:VEVENT
UID:20260419T193247CEST-3922T0vLtU@http://bomi40.eu/
DTSTAMP:20260419T173247Z
DESCRIPTION:Smart Services und neue Geschäftsmodelle als Zukunftschance für
  Wirtschaft und Gesellschaft\nWie können industrielle Dienstleister mit de
 n Anforderungen der Digitalisierung Schritt halten? Welche digital unterst
 ützten Dienstleistungen benötigen die Kunden von morgen? Wie müssen Untern
 ehmen vorgehen\, um solche neuen Smart Services systematisch zu entwickeln
 ?\nMit diesen und ähnlichen Fragestellungen beschäftigt sich das Forum »Di
 enstleistungsinnovation und Digitalisierung«. Es richtet sich an alle Unte
 rnehmen\, die technische Dienstleistungen als ihr Kerngeschäft verstehen o
 der produktbegleitende Services zu ihren Maschinen und Anlagen anbieten.\n
 In verschiedenen interaktiven Formaten lernen die Teilnehmerinnen und Teil
 nehmer erfolgreiche Lösungen aus der Praxis kennen und diskutieren Service
 konzepte der Zukunft.\nDie Veranstaltung auf einen Blick: \n\nGrußwort von
  Dr. Nicole Hoffmeister-Kraut\, Ministerin für Wirtschaft\, Arbeit und Woh
 nungsbau des Landes Baden-Württemberg\nVorstellung einer neuen Studie zu i
 ndustrienahen Dienstleistungen in Zeiten der Digitalisierung\nPersönliches
  Erleben neuer Servicekonzepte und -technologien in den Labors des Fraunho
 fer IAO und des Fraunhofer IPA\nVorträge zu Smart Services\, neuen Geschäf
 tsmodellen und künstlicher Intelligenz\nInteraktive Pitches mit hochrangig
 en Referentinnen und Referenten aus Wirtschaft\, Wissenschaft und Politik
 \n\nZahlreiche Projekt- und Informationsstände runden die Veranstaltung ab
 .\nZielgruppe:  Technische Dienstleister\, Serviceleiter\, Innovationsmana
 ger\, Business Developer\nVeranstalter:  Fraunhofer IAO\, Stuttgart\, Mini
 sterium für Wirtschaft\, Arbeit und Wohnungsbau in Baden-Württemberg\nDie 
 Veranstaltung ist kostenfrei\, eine Anmeldung ist erforderlich.\nWeitere I
 nformationen zu der Veranstaltung sowie Anmeldung finden Sie hier. http://
 bomi40.eu/de/service-kompetenz/veranstaltungen/ort/event/1298-dienstleistu
 ngsinnovation-und-digitalisierung
DTSTART;VALUE=DATE:20190117
LOCATION:  Fraunhofer-Institutszentrum Stuttgart – Gebäude G (Nobelstraße 1
 2\, 70569 Stuttgart\, Deutschland)
SUMMARY:Dienstleistungsinnovation und Digitalisierung
URL:http://bomi40.eu/de/service-kompetenz/veranstaltungen/ort/event/1298-di
 enstleistungsinnovation-und-digitalisierung
END:VEVENT
END:VCALENDAR
