BEGIN:VCALENDAR
VERSION:2.0
PRODID:-//http://bomi40.eu///NONSGML kigkonsult.se iCalcreator 2.10.15//
METHOD:PUBLISH
BEGIN:VEVENT
UID:20260419T191114CEST-7764dI9WXM@http://bomi40.eu/
DTSTAMP:20260419T171114Z
DESCRIPTION: Wofür steht das Bodensee Innovationscluster Digitaler Wandel |
  BIC?\n Das BIC konstituiert ein erweitertes Netzwerk aus Forschungseinric
 htungen\, Unternehmen und anderen relevanten Stakeholdern der Bodenseeregi
 on\, das neben gemeinsamer Erarbeitung von Wissen auch Synergieeffekte und
  „Best Practice“-Betrachtungen anstrebt. So kann die digitale Transformati
 on in der Bodenseeregion gemeinsam gestaltet werden. Den Kern des Innovati
 onsclusters bildet das Innovationslabor\, das eine koordinierende Funktion
  ausübt und von einem Expertenteam der Zeppelin Universität geleitet wird.
  Cybersecurity als erstes Schwerpunktthema orientiert sich an den Ergebnis
 sen einer Anfang 2018 durchgeführten Studie zu Status\, Herausforderungen 
 und Chancen der digitalen Transformation in der Bodenseeregion. Mehr Infor
 mationen und den Zugang zur Studie finden Sie hier.\nWas beinhaltet die Au
 ftaktveranstaltung Cybersecurity?\nVier ausgewiesene Experten zum Thema Cy
 bersecurity konnten als Referenten gewonnen werden\, die gemeinsam mit den
  Teilnehmern die systemischen und praktischen Herausforderungen der Cybers
 icherheit beleuchten werden:| Dr Christian Bühring\, Rechtsanwalt und Seni
 or Expert der Bundeswehr| Dr Helmut Mahler Gründer und Gesellschafter der 
 CODE WHITE GmbH| Bodo Meseke\, Partner\, Forensic & Integrity Services der
  Ernst & Young GmbH Wirtschaftsprüfungsgesellschaft| Professor Dr Martin S
 chulz\, Leiter Institut für Compliance und Unternehmensrecht der German Gr
 aduate School of Management and Law\nDabei wird der Fokus darauf liegen\, 
 in kleinen Gruppen mehr zu speziellen Fragestellungen der Teilnehmer zu ar
 beiten und für Ihre Herausforderungen Partner im Bodenseeraum zu finden.\n
 \nAgenda (vorläufig)11.30 - 12.00 Uhr Ankunft der Teilnehmer und Anmeldung
  zu Workshops12.00 - 13.00 Uhr Grußworte von Prof. Dr. Josef Wieland (ZU) 
 und Kurzvorstellung der Referenten\, dazu Flying Buffet13.00 - 15.00 Uhr W
 orkshops Session I: Rechtliche Fragen | Cybersecurity als Geschäftschance 
 15.00 - 15.30 Uhr Kaffeepause15.30 - 17.30 Uhr Workshops Session II: Proak
 tive Umsetzung von Cybersecurity-Maßnahmen| Cybersecurity und Lieferketten
 17.30 - 17.50 Uhr Gemeinsames Resümee der Speaker unter Moderation von Pro
 f. Wieland17.50 - 18:00 Uhr Verabschiedungab 18.00 Uhr Get-together bei Ge
 tränken und Canapés\nGeplant ist ein überschaubarer und informeller Rahmen
  mit Raum für gemeinsame Arbeit mit den Experten an konkreten Themen sowie
  zum ‚Netzwerken‘ mit Unternehmen aus der Region und darüber hinaus.\nWeit
 ere Informationen zur Anmeldung und zur Veranstaltung finden Sie hier.\n h
 ttp://bomi40.eu/de/service-kompetenz/veranstaltungen/ort/event/1303-bodens
 ee-innovationscluster-digitaler-wandel-cybersecurity
DTSTART;VALUE=DATE:20190125
LOCATION:ZF Campus der Zeppelin Universität (Fallenbrunnen\, 88045 Friedric
 hshafen\, Deutschland)
SUMMARY:Bodensee Innovationscluster Digitaler Wandel | Cybersecurity 
URL:http://bomi40.eu/de/service-kompetenz/veranstaltungen/ort/event/1303-bo
 densee-innovationscluster-digitaler-wandel-cybersecurity
END:VEVENT
END:VCALENDAR
