BEGIN:VCALENDAR
VERSION:2.0
PRODID:-//http://bomi40.eu///NONSGML kigkonsult.se iCalcreator 2.10.15//
METHOD:PUBLISH
BEGIN:VEVENT
UID:20260419T191227CEST-8921vR0V8M@http://bomi40.eu/
DTSTAMP:20260419T171227Z
DESCRIPTION:Die Bewerbungsfrist für den ersten LEADER Digital Award läuft: 
 Eine prominent besetzte Jury sucht die vorbildlichsten Digitalprojekte der
  Ostschweiz. Die Besten der Besten werden an der LEADER Digital Award Nigh
 t am 28. März 2019 im Einstein Congress St.Gallen gekürt. Projekteinreichn
 ungen sind bis zum 6. Januar 2019 möglich – innert 15 Minuten.\nMit dem LE
 ADER Digital Award 2019 werden erstmals herausragende Digitalprojekte aus 
 der Ostschweiz ausgezeichnet – eigentliche Leuchtturmprojekte\, die weit ü
 ber unsere Region hinaus strahlen. Damit soll nicht nur diesen eine angeme
 ssene Bühne und entsprechende mediale Präsenz gegeben\, sondern auch die G
 egend zwischen Bodensee und Alpstein als Informations- und Kommunikationst
 echnologie-Nährboden weit über die Grenzen hinaus bekannt gemacht werden.
 \nZiel der Organisatoren aus dem Umfeld des Ostschweizer Wirtschaftsmagazi
 ns LEADER ist es\, digitale Exzellenz sichtbar zu machen und jährlich ausz
 uzeichnen. Vom Start-up über etablierte Unternehmen bis zur öffentlichen H
 and können sich alle Bewerber mit den Besten messen\, Aufmerksamkeit gewin
 nen und an der Galanacht im festlichen Rahmen mit Vertretern aus Wirtschaf
 t und Politik netzwerken.\nEin starkes mediales Echo und ebensolche Inputs
  für die weitere Geschäftsentwicklung helfen allen Teilnehmern\, ihr Profi
 l zu schärfen\, ihren Bekanntheitsgrad zu steigern und ihre Marktposition 
 auszubauen.\nWeitere Informationen zur Anmeldung\, Projekteinreichung und 
 Veranstaltung finden Sie hier. http://bomi40.eu/de/service-kompetenz/veran
 staltungen/ort/event/1305-leader-digital-award-2019
DTSTART;VALUE=DATE:20190328
LOCATION:Einstein Congress St.Gallen (Berneggstrasse 2\, 9000 St. Gallen\, 
 Schweiz)
SUMMARY:LEADER Digital Award 2019
URL:http://bomi40.eu/de/service-kompetenz/veranstaltungen/ort/event/1305-le
 ader-digital-award-2019
END:VEVENT
END:VCALENDAR
