BEGIN:VCALENDAR
VERSION:2.0
PRODID:-//http://bomi40.eu///NONSGML kigkonsult.se iCalcreator 2.10.15//
METHOD:PUBLISH
BEGIN:VEVENT
UID:20260419T180413CEST-387385Vhv5@http://bomi40.eu/
DTSTAMP:20260419T160413Z
DESCRIPTION:Die zunehmende Digitalisierung bietet kleinen und mittleren Unt
 ernehmen (KMU) neue Möglichkeiten\, Produkte und Dienstleistungen zu entwi
 ckeln. Dies erfordert nicht nur ein Überdenken der bestehenden\, sondern a
 uch das Aufsetzen neuer Geschäftsmodelle. Der eintägige Workshop zeigt\, m
 it welchen Methoden und konkreten Maßnahmen digitale Geschäftsmodelle in K
 MU angestoßen und umgesetzt werden können.\nIn dem Workshop erarbeiten Tei
 lnehmer in verschiedenen Teams anhand eines fiktiven Falles aus dem Untern
 ehmenskontext Ideen für digitale Geschäftsmodelle. Dabei erfahren sie unte
 r anderem\, wie sie gezielt die Ausgangssituation des Unternehmens analysi
 eren\, Bedarfe ihrere Kunden und Nutzer erkennen\, kundenorientiert digita
 le Ideen entwickeln sowie ein digitales Unternehmenskonzept anhand des Bus
 iness Model Canvas erstellen und testen. Praxisorientiert lernen die Teiln
 ehmer konkrete Methoden kennen\, die ihnen helfen\, die Schritte in ihren 
 Unternehmen umzusetzen.\nDie Teilnehmer lernen in dem Workshop konkrete Me
 thoden kennen\, wie sie die Schritte einfach in Ihrem Unternehmen umsetzen
  können.\nIm Anschluss an den Workshop bietet das Projekt Interessierten e
 in weiterführendes Angebot an:\n\n30-minütige Online-Beratung für Ihre eig
 ene Geschäftsmodellidee\nIndividueller eintägiger Workshop für max. zehn K
 MU im Inkubator am HHZ – Hermann Hollerith Zentrum\, Böblingen\, nach Bewe
 rbung mit einer ersten Geschäftsmodellidee (Juli 2018 – Juni 2019)\n\nInfo
 rmationen sowie ergänzendes Material finden Sie auf der DIGITRANS Platform
 . DIGITRANS ist ein von der Europäischen Union im Rahmen des Interreg-Dona
 uraumprogramms gefördertes Projekt\, das KMU bei der Entwicklung digitaler
  Geschäftsmodelle unterstützt.\nWeitere Informationen zur Anmeldung und zu
 r Veranstaltung finden Sie hier. http://bomi40.eu/de/service-kompetenz/ver
 anstaltungen/ort/event/1314-entwicklung-digitaler-geschaeftsmodelle-mit-de
 r-digitrans-methode
DTSTART;VALUE=DATE:20190130
LOCATION:Innovationsfabrik Heilbronn - Raum Béziers  (Weipertstraße 8-10\, 
 74076 Heilbronn\, Deutschland)
SUMMARY:Entwicklung Digitaler Geschäftsmodelle mit der DIGITRANS-Methode
URL:http://bomi40.eu/de/service-kompetenz/veranstaltungen/ort/event/1314-en
 twicklung-digitaler-geschaeftsmodelle-mit-der-digitrans-methode
END:VEVENT
END:VCALENDAR
