BEGIN:VCALENDAR
VERSION:2.0
PRODID:-//http://bomi40.eu///NONSGML kigkonsult.se iCalcreator 2.10.15//
METHOD:PUBLISH
BEGIN:VEVENT
UID:20260419T191416CEST-9557LDOXhO@http://bomi40.eu/
DTSTAMP:20260419T171416Z
DESCRIPTION:Ideen und Szenarien für die Integration von VR\, AR und MR-Anwe
 ndungen in den Bereichen Handel\, Handwerk\, Luftfahrt\, Medizin(-Technik)
  und Produktion\nDas Virtual Dimension Center\, microTEC Südwest und die b
 wcon GmbH laden Sie herzlich ein zum Workshop „Co-Creative Entwicklung von
  Anwendungsszenarien für verteilte\, kollaborative VR\, AR und MR mithilfe
  von Design Thinking“. Die Nutzung von verteilten Virtual- (VR)\, Augmente
 d- (AR) und Mixed- (MR) Reality-Multi-User-Umgebungen ermöglicht eine inte
 raktive Zusammenarbeit über Distanzen und gewinnt auch im Unternehmenskont
 ext zunehmend an Bedeutung. In einem interaktiven Format entwickeln wir Id
 een und Szenarien für die Integration von VR\, AR und MR-Anwendungen in de
 n Bereichen Handel\, Handwerk\, Luftfahrt\, Medizin (-Technik) und Produkt
 ion. Eingeladen sind interessierte Vertreter*innen aus Start-ups\, KMU & e
 tablierten Unternehmen in den Zielbranchen.\nRahmendaten:\n\nDer Workshop 
 findet am Mittwoch\, 30. Januar 2019 (10:00-17:00)\, in den Räumlichkeiten
  des Virtual Dimension Centers\, Auberlenstr. 13 in 70736 Fellbach\, statt
 .\nUnter Einsatz der Innovationsmethode Design Thinking wird gemeinsam exp
 loriert\, wie VR-\, MR- und AR-Anwendungen von Unternehmen in Baden-Württe
 mberg eingesetzt werden können – und was es dafür braucht.\nBasierend auf 
 den Ergebnissen werden im Rahmen des Projekts Cyber Access BW – kurz: CAB 
 – gezielt Leitfäden\, Lehr- und Lerninhalte sowie innovative Veranstaltung
 sformate konzipiert\, die insbesondere KMU bei der nachhaltigen Integratio
 n von VR-\, AR- und MR-Anwendungen unterstützen sollen.\nAlle Informatione
 n zu CAB finden Sie in Kürze hier. Das Projekt wird gefördert durch das Mi
 nisterium für Wirtschaft\, Arbeit und Wohnungsbau des Landes Baden-Württem
 berg.\nDie Teilnahme an der Veranstaltung ist kostenlos.&nbsp\;\n\nÜber di
 e Methode:\nDesign Thinking (DT) ist eine Methode zur Lösung komplexer Pro
 bleme sowie zur Entwicklung neuer Ideen und Innovationen. Das Verfahren be
 rücksichtigt die Bedürfnisse und Motivationen von Menschen und beinhaltet 
 eine Kombination aus Verstehen\, Beobachtung\, Ideenfindung\, Verfeinerung
 \, Ausführung und Lernen. DT ist dabei weit mehr als nur eine Kreativitäts
 technik: Die Methode\, die ursprünglich für die Generierung neuer Produkte
  und Dienstleistungen verwendet wurde\, ermöglicht völlig neue Formen der 
 Zusammenarbeit im Team.\nWeitere Informationen zur Anmeldung und Veranstal
 tung finden Sie hier. http://bomi40.eu/de/service-kompetenz/veranstaltunge
 n/ort/event/1318-workshop-co-creative-entwicklung-von-anwendungsszenarien-
 fuer-verteilte-kollaborative-vr-ar-und-mr-mithilfe-von-design-thinking
DTSTART;VALUE=DATE:20190130
LOCATION:Virtual Dimension Center (Auberlenstraße 13\, 70736 Fellbach\, Deu
 tschland)
SUMMARY:Workshop „Co-Creative Entwicklung von Anwendungsszenarien für verte
 ilte\, kollaborative VR\, AR und MR Mithilfe von Design Thinking“
URL:http://bomi40.eu/de/service-kompetenz/veranstaltungen/ort/event/1318-wo
 rkshop-co-creative-entwicklung-von-anwendungsszenarien-fuer-verteilte-koll
 aborative-vr-ar-und-mr-mithilfe-von-design-thinking
END:VEVENT
END:VCALENDAR
