BEGIN:VCALENDAR
VERSION:2.0
PRODID:-//http://bomi40.eu///NONSGML kigkonsult.se iCalcreator 2.10.15//
METHOD:PUBLISH
BEGIN:VEVENT
UID:20260419T205757CEST-4667OKmfwA@http://bomi40.eu/
DTSTAMP:20260419T185757Z
DESCRIPTION:Die Lichtbranche bietet spannende Einblicke in Zukunftstechnolo
 gien \nDurch die Symbiose von LED/OLED Lichttechnologien mit Informationst
 echnologien werden interdisziplinäre Systemarchitekturen\, holistische Bet
 rachtungsweisen und Technologieentwicklungen auf Systemebene erforderlich.
 \nDiesem Anspruch widmet sich die 7. LED professional Symposium + Expo Ver
 anstaltung (LpS 2017) vom 26.-28. September 2017 im Festspielhaus Bregenz.
  Die führende europäische Lichttechnologiekonferenz erwartet dieses Jahr m
 ehr als 1.600 Besucher aus aller Welt für 100 Fachvorträge\, Vertiefungswo
 rkshops und Diskussionsforen.\nDie begleitende Fachausstellung vereint zud
 em mehr als 120 Komponenten-\, Service- und Geräteanbieter\, die Neuheiten
  &nbsp\;zum Thema „Smart Technologies for Lighting Innovations“ präsentier
 en\nSchwerpunkttrends der Konferenz:\n\nConnected Lighting and Internet of
  Things\nLighting Quality\nLEDification and Miniaturisierung\n\nNutzen Sie
  die LpS zum Austausch mit internationalen Fachexperten und Herstellern un
 d zum Wissensaufbau.\nPremiere: Trends in Lighting (TiL 2017)\nParallel zu
 r LpS Konferenz findet dieses Jahr erstmals die Trends in Lighting als Vor
 tragsforum mit begleitender Fachausstellung statt. Sie beschäftigt sich mi
 t neuesten System- und Anwendungstrends in der Lichtbranche und zeigt inno
 vative Lichtsysteme\, Leuchten\, Lampen und Steuerungen.\nDie TiL bietet A
 rchitekten\, Innenarchitekten\, Lichtplanern\, Lichtdesigner und IT/IoT Sy
 stemintegratoren eine professionelle Plattform\, um moderne Lichtdesigns u
 nd -systeme zu diskutieren und Lösungen zu finden. Alle Details unter www.
 trends.lighting.\n&nbsp\;\nAnmeldung und Preise\nDie Anmeldung ist online 
 über www.lps2017.com möglich. Bis 3. Juli gibt es Frühbucherrabatt. Der Ei
 ntritt zu den Fach-ausstellungen der TiL und der LpS kostet 15 €\, der Ein
 tritt zum TiL Vortragsforum inklusive Ausstellung 37 €. http://bomi40.eu/d
 e/service-kompetenz/veranstaltungen/ort/event/133-led-professional-symposi
 um
DTSTART:20170627T060000Z
DTEND:20170628T160000Z
LOCATION:Festspielhaus Bregenz  (Platz der Wr. Symphoniker 1\, 6900 Bregenz
 \, Österreich)
SUMMARY:LED professional Symposium 
URL:http://bomi40.eu/de/service-kompetenz/veranstaltungen/ort/event/133-led
 -professional-symposium
END:VEVENT
END:VCALENDAR
