BEGIN:VCALENDAR
VERSION:2.0
PRODID:-//http://bomi40.eu///NONSGML kigkonsult.se iCalcreator 2.10.15//
METHOD:PUBLISH
BEGIN:VEVENT
UID:20260419T180917CEST-1302KVUS4h@http://bomi40.eu/
DTSTAMP:20260419T160917Z
DESCRIPTION:Datenbasierte Produktion - Mehrwerte smarter Algorithmen und Se
 rvicesIn der Industrie erzeugen Maschinen und Sensoren heute hochautomatis
 iert große Datenmengen. Mit Machine-Learning-Methoden und Verfahren der Kü
 nstlichen Intelligenz ist es möglich\, diese Daten gewinnbringend zu analy
 sieren\, um Produkte zu optimieren\, die Anlagenauslastung zu verbessern o
 der Standzeiten durch vorausschauende Wartung zu minimieren. Darüber hinau
 s ermöglicht die intelligente Datenanalyse und Informationserschließung in
  der Industrie die Entwicklung völlig neuer Geschäftsmodelle.\nDer Technol
 ogietag 2019 der Fraunhofer-Allianz Big Data bietet einen breiten Überblic
 k über praxisrelevante Technologien\, digitale Dienstleistungen und Geschä
 ftsmodelle in der produktionsnahen Informationsverarbeitung und reflektier
 t anhand von Best-Practice-Beispielen den aktuellen Stand der Technik. Fra
 unhofer-Experten stellen konkrete Anwendungen smarter Algorithmen und digi
 taler Dienstleistungen mit den sich ergebenden Mehrwerten vor und zeigen a
 uf\, wie Unternehmen von Big Data und Industrial Analytics profitieren kön
 nen und ihr Geschäft fit für die digitale Zukunft machen.\nThemenBig DataM
 achine-LearningKünstliche IntelligenzDigitale Dienstleistungen und Geschäf
 tsmodelleIndustrial Analytics\nZielgruppeFachleute aus Industrie und Wisse
 nschaft\, die sich für das Thema Data Analytics interessieren.\nQualifikat
 ionszieleDie Teilnehmer erhalten praktische Informationen zum Einsatz aktu
 eller Technologien in industriellen Umgebungen und diskutieren mit Fachexp
 erten deren Einsatz in Forschung und Entwicklung. Die begleitende Fachauss
 tellung ist ein gefragtes Forum\, um den Dialog mit den Experten zu vertie
 fen und den Aufbau neuer Kooperationen voranzutreiben.\nVeranstalterFraunh
 ofer-Allianz Big Data und Künstliche IntelligenzWeitere Informationen zur 
 Anmeldung und zur Veranstaltung finden Sie hier und unter der unten angefü
 gten PFD Datei. http://bomi40.eu/de/service-kompetenz/veranstaltungen/ort/
 event/1334-frauenhofer-allianz-big-data-technologietag-2019
DTSTART:20190205T110000Z
DTEND:20190206T121500Z
LOCATION:Fraunhofer-Institut für Produktionstechnik und Automatisierung IPA
  Stuttgart-Vaihingen (Nobelstraße 12\, 70569 Stuttgart\, Deutschland)
SUMMARY:Frauenhofer Allianz Big Data Technologietag 2019
URL:http://bomi40.eu/de/service-kompetenz/veranstaltungen/ort/event/1334-fr
 auenhofer-allianz-big-data-technologietag-2019
END:VEVENT
END:VCALENDAR
