BEGIN:VCALENDAR
VERSION:2.0
PRODID:-//http://bomi40.eu///NONSGML kigkonsult.se iCalcreator 2.10.15//
METHOD:PUBLISH
BEGIN:VEVENT
UID:20260419T193106CEST-0641l93lsP@http://bomi40.eu/
DTSTAMP:20260419T173106Z
DESCRIPTION:\n&nbsp\;\n&nbsp\;\n&nbsp\;\n&nbsp\;\n&nbsp\;Ihr Nutzen\n\nSie 
 entwickeln Ihre Idee\, ganz egal ob im Bereich Prozessentwicklung\, Produk
 t oder Dienstleistung\, in kleinen Teams kontinuierlich weiter.\nSie teste
 n Ihre Idee in kurzer Zeit anhand von unterschiedlichen Experimenten.\nSie
  prüfen\, ob Ihre Idee technisch umsetzbar und vom Nutzer anwendbar ist.\n
 \nTeilnahmebedingungen Damit jeder Teilnehmer möglichst umfassend von den 
 Inhalten profitieren kann\, ist die Teilnehmer-zahl auf 12 Personen begren
 zt. Bitte haben Sie Verständnis dafür\, dass die Anmeldungen daher in der 
 Reihenfolge des Eingangs erfasst werden.  Teilnehmer: Mindestens 2 Persone
 n pro Unternehmen. Sie arbeiten mit Ihren Kollegen im Team an der Geschäft
 sidee.\nWeitere Informationen zu der Veranstaltung finden Sie hier. http:/
 /bomi40.eu/de/service-kompetenz/veranstaltungen/ort/event/1338-intensiv-wo
 rkshop-digitale-geschaeftsmodelle-ihre-geschaeftsidee-auf-dem-pruefstand
DTSTART;VALUE=DATE:20190218
LOCATION:ecos offices (Stockholmer Pl. 1\, 70173 Stuttgart\, Deutschland)
SUMMARY:Intensiv-Workshop digitale Geschäftsmodelle - Ihre Geschäftsidee au
 f dem Prüfstand
URL:http://bomi40.eu/de/service-kompetenz/veranstaltungen/ort/event/1338-in
 tensiv-workshop-digitale-geschaeftsmodelle-ihre-geschaeftsidee-auf-dem-pru
 efstand
END:VEVENT
END:VCALENDAR
