BEGIN:VCALENDAR
VERSION:2.0
PRODID:-//http://bomi40.eu///NONSGML kigkonsult.se iCalcreator 2.10.15//
METHOD:PUBLISH
BEGIN:VEVENT
UID:20260419T203455CEST-0825TfUxbd@http://bomi40.eu/
DTSTAMP:20260419T183455Z
DESCRIPTION:\nPlanen Sie noch oder innovieren Sie schon?\nUm Ihre neuen Pro
 dukte und Services zur Marktreife zu bringen\, brauchen Sie im Unternehmen
  kreative Teams\, die flexibel und eigenständig zusammenarbeiten können. A
 gile Methoden wirken bei Innovationsprozessen und Digitalisierungsprojekte
 n wie ein Katalysator.\nIn unserem Workshop…\n\n– erfahren Sie\, wie Sie I
 nnovationsprozesse im industriellen Umfeld zielgerichtet anstoßen und agil
 e Tools erfolgreich implementieren können.\n– lernen Sie\, wie Sie Design 
 Thinking\, Scrum\, Kanban & Co. erfolgreich in Ihren Projekten einsetzen k
 önnen.\n– entwickeln Sie in kleinen Teams mit Innovations- & Kreativitätsm
 ethoden neue Ideen und Konzepte.\n\nBitte haben Sie Verständnis dafür\, da
 ss wir die Teilnehmerzahl auf 20 Personen begrenzen müssen und die Anmeldu
 ngen daher in der Reihenfolge des Eingangs erfassen.\nWeitere Informatione
 n zu der Veranstaltung finden Sie hier.\n http://bomi40.eu/de/service-komp
 etenz/veranstaltungen/ort/event/1340-mit-design-thinking-scrum-co-im-digit
 alen-zeitalter-zum-erfolg
DTSTART;VALUE=DATE:20190222
LOCATION:IHK Region Stuttgart (Jägerstraße 30\, 70174 Stuttgart\, Deutschla
 nd)
SUMMARY:Mit Design Thinking\, Scrum & Co. im digitalen Zeitalter zum Erfolg
URL:http://bomi40.eu/de/service-kompetenz/veranstaltungen/ort/event/1340-mi
 t-design-thinking-scrum-co-im-digitalen-zeitalter-zum-erfolg
END:VEVENT
END:VCALENDAR
