BEGIN:VCALENDAR
VERSION:2.0
PRODID:-//http://bomi40.eu///NONSGML kigkonsult.se iCalcreator 2.10.15//
METHOD:PUBLISH
BEGIN:VEVENT
UID:20260419T183121CEST-3176NDgRZz@http://bomi40.eu/
DTSTAMP:20260419T163121Z
DESCRIPTION:Die Wettbewerbsfähigkeit von Unternehmen\, insbesondere von KMU
 \, hängt wesentlich davon ab\, Innovationen zu generieren\, zu entwickeln 
 und erfolgreich am Markt umzusetzen. Das bedeutet\, dass es unumgänglich i
 st\, sich mit dem Thema Innovationsmanagement zu beschäftigen\, wenn Unter
 nehmen für die Herausforderungen von heute und morgen gewappnet sein wolle
 n.Unternehmensstrategie\, Portfolio-Analyse\, Trend- und Wettbewerbsanalys
 e\, Innovations-Ökosystem – dies sind Themen\, die im Unternehmensalltag h
 äufig vernachlässigt werden\, aber die Basis für ein erfolgreiches Innovat
 ionsmanagement darstellen. Wo soll man ansetzen? Wie kann man strategisch 
 vorgehen\, um ein systematisches Innovationsmanagement im eigenen Unterneh
 men umzusetzen? Welche Partner helfen bestimmte Kompetenzen zu erlangen – 
 auch im Kontext von FuE-Anträgen?\nIm Rahmen dieses Trainings zeigt Ihnen 
 das Steinbeis-Europa-Zentrum verschiedene systematisch aufeinander aufbaue
 nde Analysemethoden\, die Ihnen helfen\, Zukunftsstrategien für Ihr Untern
 ehmen zu entwickeln und umzusetzen. Hierzu gehören u.a.:\n\nAnalyse des In
 novationspotenzials und der Wettbewerbsstärke\nIdentifizierung und Evaluie
 rung von Stärken und Schwächen im Innovationsprozess\nAufbau eines Innovat
 ionspartner-Radars – Innovationsrelevante Akteure national\, europäisch un
 d global identifizieren und beobachten (Innovations-Ökosystem)\nAufstellen
  von Roadmaps mit erfolgsversprechenden Aktivitäten\n\nDas Training besteh
 t aus einer Kombination von Präsentationen und interaktiven Phasen mit Rol
 lenspielen\, in denen anhand unterschiedlicher Fallbeispiele das Vorgehen 
 zu den oben genannten Themen vertieft wird.&nbsp\;\nDie Teilnahme an der V
 eranstaltung ist kostenpflichtig.  Weitere Informationen zu der Veranstalt
 ung und Anmeldung finden Sie hier. http://bomi40.eu/de/service-kompetenz/v
 eranstaltungen/ort/event/1342-training-von-der-idee-zum-produkt-innovation
 smanagement-und-innovationspartnerschaften-im-internationalen-kontext
DTSTART;VALUE=DATE:20190717
LOCATION:Stuttgart (Messepiazza 1\, 70629 Leinfelden-Echterdingen\, Deutsch
 land)
SUMMARY:Training: 'Von der Idee zum Produkt - Innovationsmanagement und Inn
 ovationspartnerschaften im internationalen Kontext'
URL:http://bomi40.eu/de/service-kompetenz/veranstaltungen/ort/event/1342-tr
 aining-von-der-idee-zum-produkt-innovationsmanagement-und-innovationspartn
 erschaften-im-internationalen-kontext
END:VEVENT
END:VCALENDAR
