BEGIN:VCALENDAR
VERSION:2.0
PRODID:-//http://bomi40.eu///NONSGML kigkonsult.se iCalcreator 2.10.15//
METHOD:PUBLISH
BEGIN:VEVENT
UID:20260419T191228CEST-1272Us39mw@http://bomi40.eu/
DTSTAMP:20260419T171228Z
DESCRIPTION:Aufgrund der zunehmenden Anzahl und Vernetzung IP-basierter Kom
 ponenten durch Globalisierung\, Digitalisierung\, Cloud-Dienste und IoT-De
 vices werden Unternehmen immer verwundbarer hinsichtlich ihrer Information
 ssicherheit. Gleichzeitig nehmen Anzahl und Intensität von Angriffen auf I
 T Infrastrukturen von Unternehmen massiv zu. Nicht nur Nerds und Hobby-Hac
 ker suchen und finden Verwundbarkeiten in Systemen\, sondern auch kriminel
 le Organisationen und ausländische staatliche Organisationen machen geziel
 t Jagd auf wertvolle Informationen von Unternehmen\, sei es zur Lösegelder
 pressung oder Wirtschaftsspionage.Die Notwendigkeit von Unternehmen\, eige
 ne Informationen\, Systeme und Prozesse vor Angriffen von Außen und Innen 
 zu schützen war noch nie so hoch wie heute. In vielen Unternehmen besteht 
 jedoch eine\, teils große\, Lücke zwischen tatsächlich vorhandenem und erf
 orderlichem Level an IT Security.Die Gründe dafür sind vielfältig: fehlend
 es Bewusstsein und Wissen über die individuelle Bedrohungs- und Sicherheit
 slage\, fehlende Erfahrung/Kompetenzen und/oder Ressourcen im Bereich IT S
 ecurity\, fehlende oder ineffiziente Vorgehensweisen\, Prozesse und Werkze
 uge zur Etablierung eines entsprechenden Sicherheitslevels\, etc. Es ist d
 aher auch nicht überraschend\, dass dem Thema IT Security oft erst nach kr
 itischen Sicherheitsvorfällen die erforderliche Aufmerksamkeit beigemessen
  wird. Dann wird in kürzester Zeit versucht\, Versäumnisse aufzuholen und 
 IT Security kann zur Bremse für die Geschäftsentwicklung werden. Dabei ist
  eine effiziente strategische Planung und pragmatische Operationalisierung
  von IT Security mit den richtigen Methoden und Werkzeugen gar nicht so sc
 hwer - und zwar auch ohne dabei für Reibung und Ärger in der Organisation 
 zu sorgen.\nChristian Matthies und Eric Berger\, Gründer und Geschäftsführ
 er der CISOCON vermitteln Ihnen in dieser Veranstaltung:\n\nAktuelle Infor
 mationen: Sicherheitsvorfälle\, Bedrohungsszenarien\, Ursachen und Kosten 
 von Datenverlusten\nDas CISO Orchestra: Die Rollen des Chief Information S
 ecurity Officer und sein Aufgabenspektrum\nGrundlagen: Die Bedeutung von e
 lementaren Konzepten für IT Security wie Segmentierung & Transparenz\, Thr
 eat Model\, Responsibility Model und Risk Management\nPragmatische Operati
 onalisierung von IT Security: Vom Security Assessment über strategische Wo
 rkstreams zur Entwicklung und Umsetzung einer effizienten und zielgerichte
 ten Security Roadmap\n\nDie CISOCON GmbH (ehemals Twelve Beaufort) mit Sit
 z in Berlin ist spezialisiert auf die Beratung von Unternehmen in Fragen d
 er IT Sicherheit. Ein besonderer Fokus liegt dabei auf der Beratung des CI
 SO und seiner Organisation\, der interimistischen Ausübung der CISO-Funkti
 on in Unternehmen sowie der Entwicklung und Umsetzung von Security Roadmap
 s.\nProgrammablauf:17:00 - 17:15 Uhr: Begrüssung / Prof. Jan vom Brocke\, 
 Prof. Pavel Laskov und Gunnar Porada\, Institut für Wirtschaftsinformatik 
 der Universität Liechtenstein17:15 - 18:30 Uhr: 'IT Security im Unternehme
 n pragmatisch operationalisieren - wie geht das?' / Eric Berger und Christ
 ian Matthies\, Gründer und Geschäftsführer der CISOCON GmbH aus Berlin18:3
 0 - 19:00 Uhr: Offene DiskussionsrundeAb 19:00 Uhr: Networking-Apéro mit G
 etränken und Fingerfood\nAnmeldungsfrist ist der 11.02.2019.\nWeitere Info
 rmationen zur Anmeldung und zur Veranstaltung finden Sie hier. http://bomi
 40.eu/de/service-kompetenz/veranstaltungen/ort/event/1344-it-security-im-u
 nternehmen-pragmatisch-operationalisieren
DTSTART;VALUE=DATE:20190214
LOCATION:Hörsaal 3\, Universität Liechtenstein (Fürst-Franz-Josef-Strasse\,
  9490 Vaduz\, Liechtenstein)
SUMMARY:IT Security im Unternehmen pragmatisch operationalisieren
URL:http://bomi40.eu/de/service-kompetenz/veranstaltungen/ort/event/1344-it
 -security-im-unternehmen-pragmatisch-operationalisieren
END:VEVENT
END:VCALENDAR
