BEGIN:VCALENDAR
VERSION:2.0
PRODID:-//http://bomi40.eu///NONSGML kigkonsult.se iCalcreator 2.10.15//
METHOD:PUBLISH
BEGIN:VEVENT
UID:20260419T180341CEST-3826lLEloC@http://bomi40.eu/
DTSTAMP:20260419T160341Z
DESCRIPTION:Kurzbeschreibung:Zahlreiche Unternehmen stehen heute vor der He
 rausforderung\, ihre Prozesse und Produkte zu überarbeiten und den Kundenn
 utzen noch weiter zu erhöhen. Innovation fällt im Unternehmensalltag jedoc
 h häufig schwer\, erfordert sie doch umfangreiche Analysen und „out-of-the
 -box-thinking“\, das sich stark vom Tagesgeschäft unterscheidet. Die Desig
 n Thinking Methode\, entwickelt an der Stanford School of Engineering in d
 en USA\, leitet in einem schrittweisen Prozess von der Analyse des Problem
 bereichs hin zur Erschaffung zahlreicher Innovationsmöglichkeiten. Gleichz
 eitig wird in dieser Methode darauf geachtet\, dass konkrete und greifbare
  Innovationen geschaffen werden\, die einen hohen Kundennutzen bringen. Le
 rninhalte:- Einführung Design Thinking Methodologie&nbsp\;- Hands-On-Works
 hop Design Thinking- Fallstudie und FeldforschungLernziele:- Überblick und
  erste Erfahrung mit Design Thinking- Befähigung zur Anwendung der Design 
 Thinking Grundsätze im UnternehmenZielgruppe:- Mitarbeitende aus Vertrieb\
 , Produktentwicklung\, Kundenservice\, IT-Abteilung- Ferner alle Kadermita
 rbeitende mit Interesse an Innovation\nAgenda:1. Tag:&nbsp\;Einführung Des
 ign Thinking Methodologie&nbsp\;2. Tag:&nbsp\;Hands-On-Workshop Design Thi
 nking (1 Tag) inkl. Fallstudie und Feldforschung\nTeilnehmeranzahl:Die Min
 destteilnehmerzahl liegt bei 7 Teilnehmern.TeilnahmegebührCHF 1'250Anmeldu
 ngen:Bitte bis 4.&nbsp\;März 2019\nWeitere Informationen zur Anmeldung und
  zur Veranstaltung finden Sie hier. http://bomi40.eu/de/service-kompetenz/
 veranstaltungen/ort/event/1348-design-thinking-workshop
DTSTART:20190314T130000Z
DTEND:20190315T183000Z
LOCATION:Universität Liechtenstein\, Vaduz (Fürst-Franz-Josef-Strasse\, 949
 0 Vaduz\, Liechtenstein)
SUMMARY:Design Thinking Workshop
URL:http://bomi40.eu/de/service-kompetenz/veranstaltungen/ort/event/1348-de
 sign-thinking-workshop
END:VEVENT
END:VCALENDAR
