BEGIN:VCALENDAR
VERSION:2.0
PRODID:-//http://bomi40.eu///NONSGML kigkonsult.se iCalcreator 2.10.15//
METHOD:PUBLISH
BEGIN:VEVENT
UID:20260419T192926CEST-0913lHDsRW@http://bomi40.eu/
DTSTAMP:20260419T172926Z
DESCRIPTION:KurzbeschreibungViele Unternehmen sitzen auf einem Datenschatz\
 , den es sich zu heben lohnt. Hierfür eignet sich R\, eine Software\, die 
 als eine der meistverwendeten statistischen Programmiersprachen für Datena
 nalysen gilt. Die Eintrittsbarrieren zu R werden jedoch häufig als hoch em
 pfunden. Um mit R große Datenmengen zu analysieren\, wird Markus Weinmann 
 in diesem praktischen Workshop nicht nur einen pragmatischen Ansatz zur Da
 tenanalyse verfolgen\, sondern auch Best Practices zur Überwindung der Ein
 trittsbarrieren präsentieren.\n&nbsp\;\nLerninhalte- Datenaufbereitung mit
  R - Datenvisualisierung mit R - Datenauswertung mit RLernziele- Selbststä
 ndiges analysieren von DatenZielgruppe- Für alle\, die an praktische Daten
 analyse interessiert sind\nAgenda1. Tag: 13:00 – 17:00 Uhr: Datenaufbereit
 ung2. Tag: 9:00 – 17:30 Uhr: Datenvisualisierung und DatenauswertungTermin
 04.04.2019 von 13-17:0005.04.2019 von 9-17:30TeilnehmeranzahlDie Mindestte
 ilnehmerzahl liegt bei 7 Teilnehmern.TeilnahmegebührCHF 1'250AnmeldungenBi
 tte bis 25.&nbsp\;März 2019\nWeitere Informationen zur Anmeldung und zur V
 eranstaltung finden Sie hier. http://bomi40.eu/de/service-kompetenz/verans
 taltungen/ort/event/1351-workshop-angewandte-datenanalyse-mit-dem-statisti
 kpaket-r
DTSTART:20190404T110000Z
DTEND:20190405T153000Z
LOCATION:Universität Liechtenstein\, Vaduz (Fürst-Franz-Josef-Strasse\, 949
 0 Vaduz\, Liechtenstein)
SUMMARY:Workshop Angewandte Datenanalyse mit dem Statistikpaket R
URL:http://bomi40.eu/de/service-kompetenz/veranstaltungen/ort/event/1351-wo
 rkshop-angewandte-datenanalyse-mit-dem-statistikpaket-r
END:VEVENT
END:VCALENDAR
