BEGIN:VCALENDAR
VERSION:2.0
PRODID:-//http://bomi40.eu///NONSGML kigkonsult.se iCalcreator 2.10.15//
METHOD:PUBLISH
BEGIN:VEVENT
UID:20260419T193108CEST-7746ANUL5a@http://bomi40.eu/
DTSTAMP:20260419T173108Z
DESCRIPTION:Digitale Angriffe auf kleine und mittlere Unternehmen sind aufg
 rund der fortschreitenden Digitalisierung mittlerweile Alltag geworden. Ve
 rtrauliche Unterlagen und persönliche Daten können von Angreifern häufig f
 ast ungehindert eingesehen\, kopiert und manipuliert werden\, und somit zu
  unangenehmen Folgen für die Betroffenen führen.Die mit der Digitalisierun
 g geänderten und verstärkten Sicherheitsanforderungen sind meist noch nich
 t ausreichend in die bestehenden Prozesse integriert. Hierfür gibt es Förd
 ermittel und geeignete Maßnahmen.Die praxisorientierte Informationsveranst
 altung richtet sich vor allem an Geschäftsführer und Entscheider\, um die 
 gewonnenen Erkenntnisse in die IT-Sicherheitsstrategie Ihres Unternehmens 
 einfließen zu lassen.\nProgramm17:30 Uhr Begrüßung Ramon Rank\, Technologi
 etransfermanager\, IHK Region Stuttgart\, Abteilung Industrie und Verkehr1
 7:40 Uhr IT-Sicherheit – go Digital als Fördermittel einsetzen Andreas Sch
 löricke\, DEKRA AG\, Stuttgart18:40 Uhr Kaffeepause19:00 Uhr Datenschutz G
 rundverordnung (DSGVO) – Technische Maßnahmen richtig umsetzen. Ioannis Di
 mas\, ETES GmbH\, Stuttgart20:00 Uhr Ende der Veranstaltung\nDie Veranstal
 tung ist kostenfrei. Weitere Infromationen finden Sie hier. http://bomi40.
 eu/de/service-kompetenz/veranstaltungen/ort/event/1372-it-sicherheit-im-mi
 ttelstand
DTSTART;VALUE=DATE:20190226
LOCATION:IHK Region Stuttgart (Jägerstraße 30\, 70174 Stuttgart\, Deutschla
 nd)
SUMMARY:IT-Sicherheit im Mittelstand
URL:http://bomi40.eu/de/service-kompetenz/veranstaltungen/ort/event/1372-it
 -sicherheit-im-mittelstand
END:VEVENT
END:VCALENDAR
