BEGIN:VCALENDAR
VERSION:2.0
PRODID:-//http://bomi40.eu///NONSGML kigkonsult.se iCalcreator 2.10.15//
METHOD:PUBLISH
BEGIN:VEVENT
UID:20260419T193238CEST-4048Uj6ZiF@http://bomi40.eu/
DTSTAMP:20260419T173238Z
DESCRIPTION:Bei der Veröffentlichung oder Hinterlegung des Jahresabschlusse
 s stellen sich für offenlegungspflichtige Unternehmen vielfältige Fragen.D
 iese Veranstaltung zeigt anhand von Praxisbeispielen\, wie die Veröffentli
 chung oder Hinterlegung des Jahresabschlusses vorgenommen wird\, wie die K
 osten bei der Einreichung optimiert werden können\, welche Fristen einzuha
 lten sind und durch welche Maßnahmen\, Sanktionen bei Offenlegungsverstöße
 n vermieden werden können. Auch wird ein Einblick in die Prüfungen des Bun
 desanzeigers gegeben und erläutert was diese für die Offenlegungspflichten
  bedeuten.Abschließend werden die Grundlagen der E-Bilanz und des Digitale
 n Finanzberichts (DiFin) vermittelt und welche Synergieeffekte zur optiona
 len Aufbereitung der Daten unter anderem für die Offenlegung genutzt werde
 n können\, um Zeit und Kosten zu sparen.\nZielgruppe: Alle Unternehmen\, w
 elche im Handelsregister eingetragen sind und zur Veröffentlichung oder Hi
 nterlegung des Jahresabschlusses verpflichtet sind.\nWeitere Informationen
  zu der Veranstaltung finden Sie hier. http://bomi40.eu/de/service-kompete
 nz/veranstaltungen/ort/event/1386-digitalisierung-und-offenlegung
DTSTART;VALUE=DATE:20190326
LOCATION:IHK Bodensee-Oberschwaben (Lindenstraße 2\, 88250 Weingarten\, Deu
 tschland)
SUMMARY:Digitalisierung und Offenlegung
URL:http://bomi40.eu/de/service-kompetenz/veranstaltungen/ort/event/1386-di
 gitalisierung-und-offenlegung
END:VEVENT
END:VCALENDAR
