BEGIN:VCALENDAR
VERSION:2.0
PRODID:-//http://bomi40.eu///NONSGML kigkonsult.se iCalcreator 2.10.15//
METHOD:PUBLISH
BEGIN:VEVENT
UID:20260419T192827CEST-4433ntD4LU@http://bomi40.eu/
DTSTAMP:20260419T172827Z
DESCRIPTION:\n\n\nDie zunehmende Digitalisierung bietet Unternehmen eine Vi
 elzahl an Möglichkeiten\, neue Produkte und Dienstleistungen zu entwickeln
 . Dies erfordert nicht nur ein Überdenken der bestehenden\, sondern auch d
 as Aufsetzen neuer Geschäftsmodelle.\nMit welchen Methoden und konkreten M
 aßnahmen digitale Geschäftsmodelle in KMU angestoßen und umgesetzt werden 
 können und wie Vertreter von Wirtschaftsförderungseinrichtungen oder Train
 er dies gezielt unterstützen können\, zeigt dieser eintägige Workshop.\nIn
  interdisziplinären Teams erarbeiten Sie anhand eines fiktiven Falles aus 
 dem Unternehmenskontext eine neue Idee für ein digitales Geschäftsmodell. 
 Dabei erfahren Sie\, wie Unternehmen&nbsp\;\n\n\ndie Ausgangssituation des
  Unternehmens gezielt analysieren\,\ndie Bedarfe ihrer Kunden und Nutzer h
 erausarbeiten\,\nkundenorientierte digitale Ideen entwickeln\,&nbsp\;\nein
  erstes digitales Unternehmenskonzept mittels des Business Model Canvas er
 stellen und in einen Prototypen überführen und testen\,\nsowie eine Roadma
 p für die nächsten Schritte erstellen. &nbsp\;\n\n\nFür jede dieser Phasen
  lernen Sie konkrete Methoden kennen\, wie Sie Unternehmen darin unterstüt
 zen können\, die Schritte in ihrem Unternehmen umzusetzen.\nAuf der DIGITR
 ANS Plattform finden Sie ergänzendes Material\, Anleitungen und Formulare\
 , die Sie bei der Entwicklung eines digitalen Modells in Ihrem Unternehmen
  einsetzen können.\nZielgruppe Vertreter von Wirtschaftsförderungseinricht
 ungen\, Wirtschaftsverbänden\, IHKs sowie Trainer und Consultants\, die KM
 U bei der Digitalisierung unterstützen\n\n\n\n\n\nWeitere Informationen zu
  der Veranstaltung finden Sie hier.\n\n http://bomi40.eu/de/service-kompet
 enz/veranstaltungen/ort/event/1387-entwicklung-digitaler-geschaeftsmodelle
 -mit-der-digitrans-methode
DTSTART;VALUE=DATE:20190515
LOCATION:MFG Baden-Württemberg (Breitscheidstraße 4\, 70174 Stuttgart\, Deu
 tschland)
SUMMARY: Entwicklung digitaler Geschäftsmodelle mit der DIGITRANS-Methode
URL:http://bomi40.eu/de/service-kompetenz/veranstaltungen/ort/event/1387-en
 twicklung-digitaler-geschaeftsmodelle-mit-der-digitrans-methode
END:VEVENT
END:VCALENDAR
