BEGIN:VCALENDAR
VERSION:2.0
PRODID:-//http://bomi40.eu///NONSGML kigkonsult.se iCalcreator 2.10.15//
METHOD:PUBLISH
BEGIN:VEVENT
UID:20260419T192927CEST-3793Aju5f9@http://bomi40.eu/
DTSTAMP:20260419T172927Z
DESCRIPTION:Digitale Infrastrukturen gehören zu den wesentlichen Standort- 
 und Wirtschaftsfaktoren. Unternehmen müssen jetzt die Chance ergreifen\, d
 urch die Digitalisierung national wie international konkurrenzfähig zu ble
 iben und neue Märkte zu erschließen.Mit der Informationskampagne Breitband
 @Mittelstand des Bundesministeriums für Verkehr und digitale Infrastruktur
  (BMVI) zusammen mit dem deutschen Industrie- und Handelskammertag (DIHK) 
 und dem Breitbandbüro des Bundes (BBB) wird Unternehmen der Nutzen der Gig
 abit-Infrastruktur verdeutlicht\, indem sie aktuell und praxisnah über die
  absehbaren digitalen Anwendungen von morgen informiert werden. So unterst
 ützt die Informationskampagne die rechtzeitige Auseinandersetzung mit den 
 Potenzialen der Digitalisierung und den Anforderungen an die digitalen Inf
 rastrukturen.Vor und nach den Vorträgen besteht die Möglichkeit das Infomo
 bil zu besuchen. Dieses zeigt vor Ort anhand konkreter Anwendungsbeispiele
  auf\, wie die digitale Transformation Kommunikation\, Geschäftsmodelle un
 d Produktionsprozesse künftig verändern wird.\nProgramm13:00 Uhr: Begrüßun
 g13:05 Uhr: Vorstellung des Breitbandbüros13:20 Uhr: Impulsvortrag: Künstl
 iche Intelligenz13:40 Uhr: Impulsvortrag: Blockchain14:00 Uhr: Pause14:15 
 Uhr: Digitale Transformation und Anwendungsbeispiele14:45 Uhr: Internet of
  Things15:05 Uhr: Diskussion und Vernetzung15:35 Uhr: Begehung des Infomob
 ils17:00 Uhr: Ende der Veranstaltung\nWeitere Informationen zu der Veranst
 altung finden Sie hier. http://bomi40.eu/de/service-kompetenz/veranstaltun
 gen/ort/event/1393-breitband-mittelstand
DTSTART;VALUE=DATE:20190516
LOCATION:IHK Bodensee-Oberschwaben (Lindenstraße 2\, 88250 Weingarten\, Deu
 tschland)
SUMMARY:Breitband@Mittelstand
URL:http://bomi40.eu/de/service-kompetenz/veranstaltungen/ort/event/1393-br
 eitband-mittelstand
END:VEVENT
END:VCALENDAR
