BEGIN:VCALENDAR
VERSION:2.0
PRODID:-//http://bomi40.eu///NONSGML kigkonsult.se iCalcreator 2.10.15//
METHOD:PUBLISH
BEGIN:VEVENT
UID:20260419T193237CEST-5656PjODcH@http://bomi40.eu/
DTSTAMP:20260419T173237Z
DESCRIPTION:\nAm 19. März findet am Zentrum Digitalisierung.Bayern die Vera
 nstaltung “5G – Chancen und erste Anwendungen” statt. Unter anderem werden
  folgende Fragen im Rahmen der Veranstaltung adressiert:\n&nbsp\;\n\n\nWel
 che technischen Rahmenbedingungen und Voraussetzungen hat 5G aktuell?\nWie
  ist die aktuelle Leistungsbreite von 5G und wie sieht die Entwicklung aus
 ?\nIn welchen Anwendungsbereichen kann 5G eine entscheidende Rolle spielen
 ? Und wo stößt es an seine Grenzen?\n\nAgenda:\n\n\n13:00 Uhr: Begrüßung\n
 \n\n13:15 Uhr: Überblick zum aktuellen Stand von 5G\n\n\n14:00 Uhr: On the
  Road to 5G\n\n\n14:45 Uhr: Pause\n\n\n15:05 Uhr: 5G-Systemarchitektur zur
  Unterstützung von QoS und vernetzten Fahrfunktionen\n\n\n15:25 Uhr: Conne
 cted Automated Mobility by 5G\n\n\n15:45 Uhr: BMW connected foresight\n\n
 \n16:05 Uhr: Providentia - Proaktive videobasierte Nutzung von Telekommuni
 kationstechnologien in innovativen Autobahn-Szenarien\n\n\n16:30 Uhr: Get 
 together\nWeitere Informationen zu der Veranstaltung und Anmeldung finden 
 Sie hier.\n\n http://bomi40.eu/de/service-kompetenz/veranstaltungen/ort/ev
 ent/1404-5g-chancen-und-erste-anwendungen
DTSTART;VALUE=DATE:20190319
LOCATION:Zentrum Digitalisierung.Bayern (Lichtenbergstraße 8\, 85748 Garchi
 ng bei München\, Deutschland)
SUMMARY:5G – Chancen und erste Anwendungen
URL:http://bomi40.eu/de/service-kompetenz/veranstaltungen/ort/event/1404-5g
 -chancen-und-erste-anwendungen
END:VEVENT
END:VCALENDAR
