BEGIN:VCALENDAR
VERSION:2.0
PRODID:-//http://bomi40.eu///NONSGML kigkonsult.se iCalcreator 2.10.15//
METHOD:PUBLISH
BEGIN:VEVENT
UID:20260419T191015CEST-1816DmcSZm@http://bomi40.eu/
DTSTAMP:20260419T171015Z
DESCRIPTION:Das VDC Fellbach\, das Luft- und Raumfahrtcluster BodenseeAIRea
  und die Messe Friedrichshafen laden Sie herzlich zum Technologieforum 'Vi
 rtual Aircraft' ein. Diese Veranstaltung findet im Rahmen der AERO 2019\, 
 der Fachmesse für Allgemeine Luftfahrt in Friedrichshafen statt.\nNutzen S
 ie die Gelegenheit zum Gespräch mit den Experten vor Ort. Wir freuen uns a
 uf informative Vorträge und spannende Diskussionen!\nAnmeldung: https://ww
 w.vdc-fellbach.de/termine/2019/04/11/technologieforum-virtual-aircraft/\nB
 ildquelle: ESI http://bomi40.eu/de/service-kompetenz/veranstaltungen/ort/e
 vent/1408-technologieforum-virtual-aircraft
DTSTART:20190411T120000Z
DTEND:20190411T160000Z
LOCATION:Messe Friedrichshafen (Neue Messe\, Friedrichshafen\, Deutschland)
SUMMARY:Technologieforum Virtual Aircraft
URL:http://bomi40.eu/de/service-kompetenz/veranstaltungen/ort/event/1408-te
 chnologieforum-virtual-aircraft
END:VEVENT
END:VCALENDAR
