BEGIN:VCALENDAR
VERSION:2.0
PRODID:-//http://bomi40.eu///NONSGML kigkonsult.se iCalcreator 2.10.15//
METHOD:PUBLISH
BEGIN:VEVENT
UID:20260419T204813CEST-6140n23mSa@http://bomi40.eu/
DTSTAMP:20260419T184813Z
DESCRIPTION:\nSie suchen digitale Lösungen? Besuchen Sie die Allianz Indust
 rie 4.0 Baden- Württemberg auf der Hannover Messe 2019\, Halle 6\, Stand C
  18.\n\nHannover Messe: Kreative Impulse aus der Unternehmenspraxis und ne
 ue Netzwerke innerhalb der Industrie – dafür steht das Konzept der Hannove
 r Messe.\n\n\n\n\nDie Allianz Industrie 4.0 Baden-Württemberg vernetzt die
  Industrie auch 2019 mit einem Gemeinschaftsstand auf der wichtigsten Indu
 striemesse der Welt. Dort präsentieren 14 Mitaussteller – sowohl Startups 
 als auch etablierte Unternehmen und Forschungseinrichtungen – wie neue Tec
 hnologien ein optimiertes Wertschöpfungsnetzwerk schaffen. Informatorische
  Assistenzsysteme\, störsichere und intelligente Produkte oder die Gestens
 teuerung für industrielle Anwendungen zeigen die Vorreiterrolle von KMU au
 s dem Südwesten bei Industrie 4.0-Lösungen.\nErreichen Sie das nächste Lev
 el Ihrer Digitalisierung vom 01. bis 05. April 2019 auf dem&nbsp\;Gemeinsc
 haftsstand&nbsp\;in Halle 6\, Stand C18.\nWeitere Informationen zu der Ver
 anstaltung finden Sie hier.\n\n\n\n http://bomi40.eu/de/service-kompetenz/
 veranstaltungen/ort/event/1412-hannover-messe
DTSTART;VALUE=DATE:20190401
LOCATION:Messegelände Hannover (Messegelände\, 30521 Hannover\, Deutschland
 )
SUMMARY:Hannover Messe
URL:http://bomi40.eu/de/service-kompetenz/veranstaltungen/ort/event/1412-ha
 nnover-messe
END:VEVENT
END:VCALENDAR
