BEGIN:VCALENDAR
VERSION:2.0
PRODID:-//http://bomi40.eu///NONSGML kigkonsult.se iCalcreator 2.10.15//
METHOD:PUBLISH
BEGIN:VEVENT
UID:20260419T210256CEST-1479e9Rwww@http://bomi40.eu/
DTSTAMP:20260419T190256Z
DESCRIPTION:Die gesamte Automobilindustrie ist derzeit im Umbruch und erfin
 det sich neu. Unterschiedliche Faktoren\, wie z. B. die Emissionsgesetzgeb
 ung\, die zunehmende Urbanisierung\, veränderte Kundenerwartungen und neue
  Wettbewerber sind der Antrieb dieses Wandels. Vier Trends prägen dabei di
 e Entwicklung der zukünftigen Mobilität entscheidend: Vernetzung (Connecte
 d)\, autonomes Fahren (Autonomous)\, flexible Nutzung und Services (Shared
  & Services) sowie elektrische Antriebe (Electric). Diese Trends und die d
 araus resultierenden Herausforderungen an einen Automobilhersteller sowie 
 Entwicklungsansätze werden im Vortrag vorgestellt. Neben den Risiken ergeb
 en sich Chancen neue profitable Geschäftsmodelle aus der Kombination der C
 .A.S.E.-Felder zu generieren.\nDie Wirtschaftslounge Ravensburg ist eine ö
 ffentliche Veranstaltungsreihe an der DHBW Ravensburg\, in Zusammenarbeit 
 mit dem IWT – Institut für Weiterbildung\, Wissens- und Technologietransfe
 r\, bei der jeweils in einem oder mehreren Vorträgen aktuelle Themen aus d
 en Bereichen Wirtschaft und Politik präsentiert und diskutiert werden. Zur
  Zielgruppe der Veranstaltung gehört die allgemeine Öffentlichkeit\, dazu 
 zählen Mitarbeiter der regionalen Industrie\, Angehörige der DHBW und ande
 rer Hochschulen\, Privatpersonen sowie auch Studierende in höheren Semeste
 rn.\nEs handelt sich um eine kostenfreie Veranstaltung im Rahmen der Initi
 ative #bodenseeinnovativ.\nWeitere Informationen zu der Abendveranstaltung
  finden Sie hier. http://bomi40.eu/de/service-kompetenz/veranstaltungen/or
 t/event/1413-wirtschaftslounge-ravensburg-die-zukunft-der-mobilitaet
DTSTART;VALUE=DATE:20190404
LOCATION:DHBW Ravensburg – Campus  (Fallenbrunnen 13\, 88045 Friedrichshafe
 n\, Deutschland)
SUMMARY:Wirtschaftslounge Ravensburg - Die Zukunft der Mobilität
URL:http://bomi40.eu/de/service-kompetenz/veranstaltungen/ort/event/1413-wi
 rtschaftslounge-ravensburg-die-zukunft-der-mobilitaet
END:VEVENT
END:VCALENDAR
