BEGIN:VCALENDAR
VERSION:2.0
PRODID:-//http://bomi40.eu///NONSGML kigkonsult.se iCalcreator 2.10.15//
METHOD:PUBLISH
BEGIN:VEVENT
UID:20260419T193622CEST-15134hUDXv@http://bomi40.eu/
DTSTAMP:20260419T173622Z
DESCRIPTION:Der Markt für Virtual-Reality(VR)- und Augmented-Reality(AR)-Lö
 sungen ist in enormer Bewegung. Durch die Kostendegression bei Endgeräten 
 wie Trackingsystemen\, Head Mounted Displays oder Cardboard-Systeme können
  sich neue V/AR-Anwendungsfelder rechnen.\nWohin wird uns die weitere Entw
 icklung führen? Welche Branchen können von VR und AR künftig profitieren u
 nd weshalb?\nDiese Frage und weitere möchten wir bei unserer Veranstaltung
  'Marktperspektiven Virtual Reality' diskutieren. Nutzen Sie die Gelegenhe
 it zum Gespräch mit den Experten vor Ort. Wir freuen uns auf informative V
 orträge und spannende Gespräche!\n&nbsp\;\nAgenda:\n15:00 Uhr &nbsp\;&nbsp
 \;&nbsp\;&nbsp\; Eintreffen der Teilnehmer\n15:10 Uhr&nbsp\;&nbsp\;&nbsp\;
 &nbsp\;&nbsp\; Begrüßung\n&nbsp\;&nbsp\;&nbsp\;&nbsp\;&nbsp\;&nbsp\;&nbsp\
 ;&nbsp\;&nbsp\;&nbsp\;&nbsp\;&nbsp\;&nbsp\;&nbsp\;&nbsp\;&nbsp\;&nbsp\;&nb
 sp\;&nbsp\;&nbsp\;&nbsp\;&nbsp\; VDC Fellbach\n15:15 Uhr &nbsp\;&nbsp\;&nb
 sp\;&nbsp\; Review der Marktstudien im Umfeld Virtual Reality und Augmente
 d Reality\n&nbsp\;&nbsp\;&nbsp\;&nbsp\;&nbsp\;&nbsp\;&nbsp\;&nbsp\;&nbsp\;
 &nbsp\;&nbsp\;&nbsp\;&nbsp\;&nbsp\;&nbsp\;&nbsp\;&nbsp\;&nbsp\;&nbsp\;&nbs
 p\;&nbsp\;&nbsp\; Dr.-Ing. Dipl.-Kfm. Christoph Runde\, Virtual Dimension 
 Center Fellbach\n15:45 Uhr&nbsp\;&nbsp\;&nbsp\;&nbsp\;&nbsp\; Augmented un
 d Virtual Reality\, Daten im Blick - Fakten im Fokus\n&nbsp\;&nbsp\;&nbsp\
 ;&nbsp\;&nbsp\;&nbsp\;&nbsp\;&nbsp\;&nbsp\;&nbsp\;&nbsp\;&nbsp\;&nbsp\;&nb
 sp\;&nbsp\;&nbsp\;&nbsp\;&nbsp\;&nbsp\; &nbsp\;&nbsp\; Markus Maier\, KPMG
  AG\n16:15 Uhr &nbsp\; &nbsp\; &nbsp\;Wie Unternehmen durch Produktionspla
 nung in VR früher starten und den Hochlauf in der Halle absichern können\n
 &nbsp\;&nbsp\;&nbsp\;&nbsp\;&nbsp\;&nbsp\;&nbsp\;&nbsp\;&nbsp\;&nbsp\;&nbs
 p\;&nbsp\;&nbsp\;&nbsp\;&nbsp\;&nbsp\;&nbsp\;&nbsp\;&nbsp\;&nbsp\; &nbsp\;
 &nbsp\; Dr. Thomas Schüler\, Salt and Pepper Software GmbH & Co. KG\n16:45
  Uhr&nbsp\;&nbsp\;&nbsp\;&nbsp\;&nbsp\;&nbsp\; Get Together\n17:30 Uhr&nbs
 p\;&nbsp\;&nbsp\;&nbsp\;&nbsp\;&nbsp\; Veranstaltungsende\n&nbsp\;\nUnter 
 https://www.vdc-fellbach.de/termine/2019/03/28/marktperspektiven-von-vr-ar
 / finden Sie die Details zur Veranstaltung und zur kostenfreien Anmeldung.
 \n&nbsp\;\nBildquelle: Gartner http://bomi40.eu/de/service-kompetenz/veran
 staltungen/ort/event/1420-veranstaltung-marktperspektiven-von-vr-ar-applik
 ationszentren
DTSTART:20190328T140000Z
DTEND:20190328T163000Z
LOCATION:Virtual Dimension Center  (Auberlenstraße 13\, 70736 Fellbach\, De
 utschland)
SUMMARY:Veranstaltung Marktperspektiven von VR AR: Applikationszentren
URL:http://bomi40.eu/de/service-kompetenz/veranstaltungen/ort/event/1420-ve
 ranstaltung-marktperspektiven-von-vr-ar-applikationszentren
END:VEVENT
END:VCALENDAR
