BEGIN:VCALENDAR
VERSION:2.0
PRODID:-//http://bomi40.eu///NONSGML kigkonsult.se iCalcreator 2.10.15//
METHOD:PUBLISH
BEGIN:VEVENT
UID:20260419T180412CEST-9994Wopd5v@http://bomi40.eu/
DTSTAMP:20260419T160412Z
DESCRIPTION:Nachdem in den vergangenen Jahren ein regelrechter „Digitalisie
 rungs-Hype“ zu verzeichnen war\, stellen wir inzwischen eine Art „Beruhigu
 ng“ bei diesem Thema fest: Menschen und Unternehmen entwickeln ein Gefühl\
 , was durch Digitalisierung möglich wird\, wieviel Aufwand und Detailarbei
 t aber auch in der Nutzung dieser Möglichkeiten steckt. Aus diesem Grund s
 chauen wir in diesem Jahr wieder genauer auf die Technologie.\nDie Welt de
 r Ingenieure wird durch die Digitalisierung nicht einfacher. Im Gegenteil\
 , die Komplexität steigt\, denn es müssen unterschiedlichste Technologien\
 , Funktionen und Komponenten zusammengebracht und „verheiratet“ werden. Nu
 r so erhalten wir ein funktionierendes und wirtschaftlich nutzbringendes G
 esamtsystem.\nUnsere drei Plenarvorträge beleuchten diese Komplexität aus 
 unterschiedlichen Blickwinkeln: Wir zeigen\, wie das Zusammenspiel untersc
 hiedlichster Sensoren neue Massstäbe in der Anwendung setzt\, wie diese Se
 nsoren selber als komplexe Mikrosysteme mit modernsten Methoden wirtschaft
 lich gefertigt werden können. Schliesslich muss eine Technologiekette kons
 equent für einen Zukunftsmarkt optimiert werden\, um höchste Leistungsfähi
 gkeit zu erreichen.\nZusätzlich bekommen Sie in drei Parallel Sessions wie
 der einen Einblick in neue Projekte der NTB und ihrer Partner. Ich denke\,
  Sie dürfen sich auf einen hoch interessanten Nachmittag freuen.&nbsp\;Wei
 ter Informationen zur Veranstaltung finden Sie hier. http://bomi40.eu/de/s
 ervice-kompetenz/veranstaltungen/ort/event/1429-ntb-technologietag-2019
DTSTART;VALUE=DATE:20190618
LOCATION:NTB Campus Buchs (Werdenbergstrasse 4\, 9471 Buchs\, Schweiz)
SUMMARY:NTB Technologietag 2019
URL:http://bomi40.eu/de/service-kompetenz/veranstaltungen/ort/event/1429-nt
 b-technologietag-2019
END:VEVENT
END:VCALENDAR
